BEGIN:VCALENDAR
VERSION:2.0
PRODID:-//ChamberMaster//Event Calendar 2.0//EN
METHOD:PUBLISH
X-PUBLISHED-TTL:P3D
REFRESH-INTERVAL:P3D
CALSCALE:GREGORIAN
BEGIN:VEVENT
DTSTART:20220409T150000Z
DTEND:20220409T170000Z
X-MICROSOFT-CDO-ALLDAYEVENT:FALSE
SUMMARY:The Hoppin' Co-Ho
DESCRIPTION:A community Easter egg hunt hosted by the City of Hudson Oaks and Film Alley. Children ages 1-4 may be accompanied by one parent during the egg hunt but parents are not allowed to pick up any eggs. Egg Refs will be there to help out. Children ages 5-12 will hunt only with the help of the Egg Refs. \n\n\n\nBowling for a year giveaway!\n\nLook out for the special eg in each age group from Schulman Theatres. One child in each age group has a chance to win bowling for a year. This includes 52 Vouchers for one child in each age group to receive a free game of bowling each week for one year to Film Alley Weatherford.
X-ALT-DESC;FMTTYPE=text/html:A community Easter egg hunt hosted by the City of Hudson Oaks and Film Alley. Children ages 1-4 may be accompanied by one parent during the egg hunt but parents are not allowed to pick up any eggs. Egg Refs will be there to help out. Children ages 5-12 will hunt only with the help of the Egg Refs.&nbsp\;<br />\n<br />\nBowling for a year giveaway!<br />\nLook out for the special eg in each age group from Schulman Theatres. One child in each age group has a chance to win bowling for a year. This includes 52 Vouchers for one child in each age group to receive a free game of bowling each week for one year to Film Alley Weatherford.&nbsp\;
LOCATION:Gene Voyles Park
UID:e.2477.17536
SEQUENCE:3
DTSTAMP:20260425T154015Z
URL:http://business.parkercountychamber.com/events/details/the-hoppin-co-ho-17536
END:VEVENT

END:VCALENDAR
