BEGIN:VCALENDAR
VERSION:2.0
PRODID:-//ChamberMaster//Event Calendar 2.0//EN
METHOD:PUBLISH
X-PUBLISHED-TTL:P3D
REFRESH-INTERVAL:P3D
CALSCALE:GREGORIAN
BEGIN:VEVENT
DTSTART:20220427T003000Z
DTEND:20220427T020000Z
X-MICROSOFT-CDO-ALLDAYEVENT:FALSE
SUMMARY:"The Good Doctor"
DESCRIPTION:WC theatre presents "The Good Doctor" Tuesday\, April 26\, at 7:30 p.m. in the Alkek Fine Arts Center. Doors open at 7 p.m. and admission is free.\n\n \n\nA combination of Neil Simon and Chekhov\, "The Good Doctor\," a comedy with music\, is\, by turns\, charming\, hilarious\, sad\, and touching. It centers around a writer\, who speaks to the audience and shares his writing with them\, throughout one day. He presents them with a plethora of scenes: some are from his childhood\, others are his family and friends\, and still others are his own life experiences. The audience meets a variety of characters\, all of whom are immediately relatable and strikingly human.
X-ALT-DESC;FMTTYPE=text/html:<div>WC theatre presents &quot\;The Good Doctor&quot\; Tuesday\, April 26\, at 7:30 p.m. in the Alkek Fine Arts Center. Doors open at 7 p.m. and admission is free.<br />\n&nbsp\;</div>\n\n<div>A combination of Neil Simon and Chekhov\, &quot\;The Good Doctor\,&quot\; a comedy with music\, is\, by turns\, charming\, hilarious\, sad\, and touching. It centers around a writer\, who speaks to the audience and shares his writing with them\, throughout one day. He presents them with a plethora of scenes: some are from his childhood\, others are his family and friends\, and still others are his own life experiences. The audience meets a variety of characters\, all of whom are immediately relatable and strikingly human.&nbsp\;</div>\n
LOCATION:Weatherford College
UID:e.2477.17746
SEQUENCE:3
DTSTAMP:20260425T154240Z
URL:http://business.parkercountychamber.com/events/details/the-good-doctor-17746
END:VEVENT

END:VCALENDAR
