BEGIN:VCALENDAR
VERSION:2.0
PRODID:-//ChamberMaster//Event Calendar 2.0//EN
METHOD:PUBLISH
X-PUBLISHED-TTL:P3D
REFRESH-INTERVAL:P3D
CALSCALE:GREGORIAN
BEGIN:VEVENT
DTSTART;VALUE=DATE:20220203
DTEND;VALUE=DATE:20220205
TRANSP:TRANSPARENT
X-MICROSOFT-CDO-ALLDAYEVENT:TRUE
SUMMARY:The chamber follows Aledo ISD inclement weather policy
DESCRIPTION:
X-ALT-DESC;FMTTYPE=text/html:
LOCATION:
UID:e.2477.17508
SEQUENCE:3
DTSTAMP:20260425T184235Z
URL:http://business.parkercountychamber.com/events/details/the-chamber-follows-aledo-isd-inclement-weather-policy-17508
END:VEVENT

END:VCALENDAR
