BEGIN:VCALENDAR
VERSION:2.0
PRODID:-//ChamberMaster//Event Calendar 2.0//EN
METHOD:PUBLISH
X-PUBLISHED-TTL:P3D
REFRESH-INTERVAL:P3D
CALSCALE:GREGORIAN
BEGIN:VEVENT
DTSTART:20210912T010000Z
DTEND:20210912T033000Z
X-MICROSOFT-CDO-ALLDAYEVENT:FALSE
SUMMARY:The Addams Family\, a New Musical
DESCRIPTION:OPENING SEPTEMBER 10!\n\nTHE ADDAMS FAMILY\, A NEW MUSICAL\, book by Marshall Brickman and Rick Elice\, music and lyrics by Andrew Lippa\n\nSeptember 10 - 26\, 2021\, Fri. & Sat. at 8 pm\, Sun. at 2 pm\n\nTheatre Off The Square\, 114 N. Denton\, Weatherford  817-341-8687  www.theatreoffthesquare.org\n\n \n\n*ASL interpreters will be at the performance on Saturday\, September 25 at 8:00 pm. Services are provided through a partnership with the American Sign Language Interpreting Program of Tarrant County College Trinity River Campus.\n\n \n\nTHE ADDAMS FAMILY\, a comical feast that embraces the wackiness in every family\, features an original story and it's every father's nightmare: Wednesday Addams\, the ultimate princess of darkness\, has grown up and fallen in love with a sweet\, smart young man from a respectable family  a man her parents have never met. And if that wasn't upsetting enough\, Wednesday confides in her father and begs him not to tell her mother. Now\, Gomez Addams must do something he's never done before  keep a secret from his beloved wife\, Morticia. Everything will change for the whole family on the fateful night they host a dinner for Wednesday's "normal" boyfriend and his parents.\n\n \n\nDirector:  Jaclyn Justice   Assistant Director:  Brad Justice   Music Director:  Mac Chestnut    \n\nCast:  Gomez Addams - Jacob Myers\, Morticia Addams - Jennifer Brown\, Fester Addams - Christian Wulfsberg\, Grandma - Kathy Manning\, Wednesday Addams   Dandelion Nance\, Pugsley Addams   Kyler Glover\, Lurch - Lynn Self\, Mal Bieneke - Christian Lopez\, Alice Bieneke - Clara Chestnut\, Lucas Bieneke - Ian Wooten\n\nAncestors:  Maggie Connor\, Mia Currie\, Emily Farmer\, Dirk Green\, Julia Huggins\,\n\nMorgan Langham\, Jordyn Mahar\, Laurie Jones\, Lisle Justice\, Jodi Oesterle\, Charlotte Wasson\n\n \n\nReserved seating\, ALL tickets are $16.00.\n\nPlease follow the link below to purchase tickets[LJ1] . https://buy.ticketstothecity.com/purchase.php?event_id=9545\n\n \n\nAs a courtesy to our patrons\, we strongly recommend the wearing of masks for all those attending.\n\n \n\nPresented by special arrangement with\n\nand all authorized performance materials are supplied by\n\nTheatrical Rights Worldwide\n\n570 Seventh Avenue\, Suite 2100\, New York\, NY  10018\n\n(866) 378-1322  www.theatricalrights.com \n\n\n\n [LJ1]
X-ALT-DESC;FMTTYPE=text/html:<strong><span style="font-family:calibri\,sans-serif"><span style="font-size:11.0pt">OPENING SEPTEMBER 10!</span></span></strong><br />\n<span style="color:#7030A0">THE ADDAMS FAMILY\, </span><span style="color:#7030A0">A NEW MUSICAL</span><strong><span style="color:#222222">\, </span></strong><span style="color:#222222">book by Marshall Brickman and Rick Elice\, music and lyrics by Andrew Lippa</span><br />\n<strong>September 10 - 26\, 2021\, Fri. &amp\; Sat. at 8 pm\, Sun. at 2 pm</strong><br />\n<span style="font-family:calibri\,sans-serif"><span style="font-size:11.0pt">Theatre Off The Square\, 114 N. Denton\, Weatherford&nbsp\; 817-341-8687&nbsp\; www.theatreoffthesquare.org</span></span><br />\n&nbsp\;<br />\n<span style="font-family:calibri\,sans-serif"><span style="font-size:11.0pt">*ASL interpreters will be at the performance on Saturday\, September 25 at 8:00 pm. Services are provided through a partnership with the American Sign Language Interpreting Program of Tarrant County College Trinity River Campus.</span></span><br />\n&nbsp\;<br />\nTHE ADDAMS FAMILY\, a comical feast that embraces the wackiness in every family\, features an original story and it&rsquo\;s every father&rsquo\;s nightmare: Wednesday Addams\, the ultimate princess of darkness\, has grown up and fallen in love with a sweet\, smart young man from a respectable family&ndash\; a man her parents have never met. And if that wasn&rsquo\;t upsetting enough\, Wednesday confides in her father and begs him not to tell her mother. Now\, Gomez Addams must do something he&rsquo\;s never done before&ndash\; keep a secret from his beloved wife\, Morticia. Everything will change for the whole family on the fateful night they host a dinner for Wednesday&rsquo\;s &ldquo\;normal&rdquo\; boyfriend and his parents.<br />\n&nbsp\;<br />\nDirector:&nbsp\; Jaclyn Justice&nbsp\;&nbsp\; Assistant Director:&nbsp\; Brad Justice&nbsp\;&nbsp\; Music Director:&nbsp\; Mac Chestnut&nbsp\;&nbsp\;&nbsp\;&nbsp\;<br />\nCast:&nbsp\; Gomez Addams - Jacob Myers\, Morticia Addams - Jennifer Brown\, Fester Addams - Christian Wulfsberg\, Grandma - Kathy Manning\, Wednesday Addams &ndash\; Dandelion Nance\, Pugsley Addams &ndash\; Kyler Glover\, Lurch - Lynn Self\, Mal Bieneke - Christian Lopez\, Alice Bieneke - Clara Chestnut\, Lucas Bieneke - Ian Wooten<br />\nAncestors:&nbsp\; Maggie Connor\, Mia Currie\, Emily Farmer\, Dirk Green\, Julia Huggins\,<br />\nMorgan Langham\, Jordyn Mahar\, Laurie Jones\, Lisle Justice\, Jodi Oesterle\, Charlotte Wasson<br />\n&nbsp\;<br />\nReserved seating\, ALL tickets are $16.00.<br />\nPlease follow the link below to purchase tickets<span style="font-size:8.0pt"><a href="#_msocom_1" id="_anchor_1" name="_msoanchor_1">[LJ1]</a>&nbsp\;</span>. <a href="https://l.facebook.com/l.php?u=https%3A%2F%2Fbuy.ticketstothecity.com%2Fpurchase.php%3Fevent_id%3D9545%26fbclid%3DIwAR2S946MyiZOYL-gdZsCKxQTwEd2BO8VmzTUpETgwwTsT2NZFxKs9r8J0Ys&amp\;h=AT2FXDAriIn2svwGl8Xwt-p21NrDR20ciw7QRi8imz2W6NiAwOidB7js744yBd16M0rAXiOv9OQkD-ahVXMWNBBc2cB-thWTYsz6m02gdN0csVIraZklsOyAZtXHMCzU7qP-I9M_eBXMQ6F_7Q&amp\;__tn__=-UK-R&amp\;c%5b0%5d=AT21EM33Iv4TC-IjTWKEuwr8i0DhtFgmeYtG_iZa71hGKyqawpaQges8Vj47lz6xPRw-a2bELyos3s9G_XyzXpqEQMnaPw9opkSwjsLxbzoHWYpRsvC5KWCS_p4-sysFJUkPHiZJkQ61GYxejzwK3CcvkzvmiMU_yIahc_9U6clY_6i6h7Jk0qPdYu_QoJfuq580P1s" target="_blank">https://buy.ticketstothecity.com/purchase.php?event_id=9545</a><br />\n&nbsp\;<br />\nAs a courtesy to our patrons\, we strongly recommend the wearing of masks for all those attending.<br />\n&nbsp\;<br />\nPresented by special arrangement with<br />\nand all authorized performance materials are supplied by<br />\nTheatrical Rights Worldwide<br />\n570 Seventh Avenue\, Suite 2100\, New York\, NY&nbsp\; 10018<br />\n(866) 378-1322&nbsp\; www.theatricalrights.com&nbsp\;\n<div>\n<hr />\n<div>\n<div><span style="font-size:8.0pt">&nbsp\;<a href="#_msoanchor_1">[LJ1]</a></span></div>\n</div>\n</div>\n
LOCATION:Theatre Off The Square 114 North Denton Street Weatherford 76086
UID:e.2477.15556
SEQUENCE:3
DTSTAMP:20260426T012412Z
URL:http://business.parkercountychamber.com/events/details/the-addams-family-a-new-musical-09-11-2021-15556
END:VEVENT

END:VCALENDAR
