BEGIN:VCALENDAR
VERSION:2.0
PRODID:-//ChamberMaster//Event Calendar 2.0//EN
METHOD:PUBLISH
X-PUBLISHED-TTL:P3D
REFRESH-INTERVAL:P3D
CALSCALE:GREGORIAN
BEGIN:VEVENT
DTSTART:20220410T010000Z
DTEND:20220410T023000Z
X-MICROSOFT-CDO-ALLDAYEVENT:FALSE
SUMMARY:Ten Days in A Mad-House
DESCRIPTION:OPENING APRIL 8 FOR ONLY ONE WEEKEND!\n\nTen Days in A Mad-House \n\nThe Story of Nellie Bly & The Women of Blackwell Island\n\nBy Jade Emerson\n\nTOT's New Works Contest Winner 2020-2021\n\nApril 8 - 10\, 2022\, Fri. & Sat. at 8 pm\, Sun. at 2 pm\n\nTheatre Off The Square\, 114 N. Denton\, Weatherford 817-341-8687  www.theatreoffthesquare.org\n\n*ASL interpreters will be at the performance on Saturday\, April 9 at 8:00 pm. Services are provided through a partnership with the American Sign Language Interpreting Program of Tarrant County College Trinity River Campus.\n\nFROM THE AUTHOR:\n\nNellie Bly's story has been told before: the story of an insane asylum\, of a madwoman\, of screaming girls in white nightgowns with long\, ratted hair. You've heard her story before in dozens of exaggerations\, dilutions\, and dramatizations\, and yet I'm guessing very few people know or remember her name. And even fewer know the names of Anne Neville\, Tillie Mayard\, and the hundreds of women who were locked away without a say. Nellie was limited from Day 1 because of her social status and gender. When in the asylum\, she was quite literally quarantined in a circumstance she was uncertain if she could ever escape. Her situation made her susceptible to a disease running rampant- insanity.\n\nDirected by Darla Robinson \n\nAssistant Director:   Jordyn Mahar\n\nCAST:\n\n	Nellie Bly - Amanda Livengood\n	Anne Neville - Lainey Brock\n	Tillie Mayard - Jordyn Mahar\n	Doctor Dent - Garrett Tucker\n	Joseph Pulitzer - Mark Gillies\n	Nurse Grupe - Erin Lasche\n	Nurse Grady - Becky Coutras\n	Mary - Ashley Palmatier\n	Police Guard/New York World Security Guard - Thomas Vigil\n\n\n\n	Juror - Alex McCalla\n	Woman 1   Dana Powers\n	Woman 2 - Lindsey Nelson\n	Woman 3 - Jenny Ingle\n	Woman 4 - Mia Currie\n	Woman 5   Morgan Langham\n	German Woman   Susan Hurley
X-ALT-DESC;FMTTYPE=text/html:OPENING APRIL 8 FOR ONLY ONE WEEKEND!<br />\n<em>Ten Days in A Mad-House </em><br />\n<em>The Story of Nellie Bly &amp\; The Women of Blackwell Island</em><br />\nBy Jade Emerson<br />\nTOT&rsquo\;s New Works Contest Winner 2020-2021<br />\nApril 8 - 10\, 2022\, Fri. &amp\; Sat. at 8 pm\, Sun. at 2 pm<br />\n<span style="font-family:calibri\,sans-serif"><span style="font-size:11.0pt">Theatre Off The Square\, 114 N. Denton\, Weatherford 817-341-8687&nbsp\; www.theatreoffthesquare.org</span></span><br />\n<span style="font-family:calibri\,sans-serif"><span style="font-size:11.0pt">*ASL interpreters will be at the performance on Saturday\, April 9 at 8:00 pm. Services are provided through a partnership with the American Sign Language Interpreting Program of Tarrant County College Trinity River Campus.</span></span><br />\nFROM THE AUTHOR:<br />\nNellie Bly&rsquo\;s story has been told before: the story of an insane asylum\, of a madwoman\, of screaming girls in white nightgowns with long\, ratted hair. You&rsquo\;ve heard her story before in dozens of exaggerations\, dilutions\, and dramatizations\, and yet I&rsquo\;m guessing very few people know or remember her name. And even fewer know the names of Anne Neville\, Tillie Mayard\, and the hundreds of women who were locked away without a say. Nellie was limited from Day 1 because of her social status and gender. When in the asylum\, she was quite literally quarantined in a circumstance she was uncertain if she could ever escape. Her situation made her susceptible to a disease running rampant- insanity.<br />\nDirected by Darla Robinson&nbsp\;<br />\nAssistant Director:&nbsp\;&nbsp\; <span style="color:black">Jordyn Mahar</span><br />\nCAST:\n<ul>\n	<li>Nellie Bly - Amanda Livengood</li>\n	<li>Anne Neville - Lainey Brock</li>\n	<li>Tillie Mayard - Jordyn Mahar</li>\n	<li>Doctor Dent - Garrett Tucker</li>\n	<li>Joseph Pulitzer - Mark Gillies</li>\n	<li>Nurse Grupe - Erin Lasche</li>\n	<li>Nurse Grady - Becky Coutras</li>\n	<li>Mary - Ashley Palmatier</li>\n	<li>Police Guard/New York World Security Guard - Thomas Vigil</li>\n</ul>\n\n<ul>\n	<li>Juror - Alex McCalla</li>\n	<li>Woman 1 &ndash\; Dana Powers</li>\n	<li>Woman 2 - Lindsey Nelson</li>\n	<li>Woman 3 - Jenny Ingle</li>\n	<li>Woman 4 - Mia Currie</li>\n	<li>Woman 5 &ndash\; Morgan Langham</li>\n	<li>German Woman &ndash\; Susan Hurley</li>\n</ul>\n
LOCATION:Theatre Off The Square 114 North Denton Street Weatherford 76086
UID:e.2477.17754
SEQUENCE:3
DTSTAMP:20260425T154538Z
URL:http://business.parkercountychamber.com/events/details/ten-days-in-a-mad-house-04-09-2022-17754
END:VEVENT

END:VCALENDAR
