BEGIN:VCALENDAR
VERSION:2.0
PRODID:-//ChamberMaster//Event Calendar 2.0//EN
METHOD:PUBLISH
X-PUBLISHED-TTL:P3D
REFRESH-INTERVAL:P3D
CALSCALE:GREGORIAN
BEGIN:VEVENT
DTSTART:20220512T220000Z
DTEND:20220513T010000Z
X-MICROSOFT-CDO-ALLDAYEVENT:FALSE
SUMMARY:Taste of Parker County
DESCRIPTION:Don't forget to mark your calendars for one of Parker County's most anticipated events of the year. The thirteenth annual Taste of Parker County is scheduled for Thursday\, May 12th.\n\nPatrons will enjoy sample-sized tastings from a variety of local restaurants\, bakeries\, coffee shops and breweries at this all-you-can-eat event.\n\nAll proceeds from Taste of Parker County benefit the Weatherford College Foundation which funds scholarships and provides other support for the college and its students.
X-ALT-DESC;FMTTYPE=text/html:<p>Don&#39\;t forget to mark your calendars for one of Parker County&#39\;s most anticipated events of the year. The thirteenth annual Taste of Parker County is scheduled for Thursday\, May 12th.</p>\n\n<p>Patrons will enjoy sample-sized tastings from a variety of local restaurants\, bakeries\, coffee shops and breweries at this all-you-can-eat event.</p>\n\n<p>All proceeds from Taste of Parker County benefit the Weatherford College Foundation which funds scholarships and provides other support for the college and its students.&nbsp\;</p>\n
LOCATION:Heritage Park in Weatherford 317 Santa Fe Dr\, Weatherford\, TX 76086
UID:e.2477.15495
SEQUENCE:3
DTSTAMP:20260425T144511Z
URL:http://business.parkercountychamber.com/events/details/taste-of-parker-county-05-12-2022-15495
END:VEVENT

END:VCALENDAR
