BEGIN:VCALENDAR
VERSION:2.0
PRODID:-//ChamberMaster//Event Calendar 2.0//EN
METHOD:PUBLISH
X-PUBLISHED-TTL:P3D
REFRESH-INTERVAL:P3D
CALSCALE:GREGORIAN
BEGIN:VEVENT
DTSTART:20250415T213000Z
DTEND:20250416T003000Z
X-MICROSOFT-CDO-ALLDAYEVENT:FALSE
SUMMARY:Taste of Parker County
DESCRIPTION:15th Annual Taste of Parker County\n\nClick the link for more info:\n\nhttps://www.wc.edu/about/foundation/taste.php
X-ALT-DESC;FMTTYPE=text/html:<p><strong>15th Annual Taste of Parker County</strong></p>\n\n<p>Click the link for more info:<br />\n<a href="https://www.wc.edu/about/foundation/taste.php" rel="noopener" target="_blank">https://www.wc.edu/about/foundation/taste.php</a></p>\n
LOCATION:Herritage Park 317 Santa Fe Dr. Weatherford\, TX
UID:e.2477.20144
SEQUENCE:3
DTSTAMP:20260423T085851Z
URL:http://business.parkercountychamber.com/events/details/taste-of-parker-county-04-15-2025-20144
END:VEVENT

END:VCALENDAR
