BEGIN:VCALENDAR
VERSION:2.0
PRODID:-//ChamberMaster//Event Calendar 2.0//EN
METHOD:PUBLISH
X-PUBLISHED-TTL:P3D
REFRESH-INTERVAL:P3D
CALSCALE:GREGORIAN
BEGIN:VEVENT
DTSTART:20260502T150000Z
DTEND:20260502T210000Z
X-MICROSOFT-CDO-ALLDAYEVENT:FALSE
SUMMARY:Talking Tombstone Tour
DESCRIPTION:
X-ALT-DESC;FMTTYPE=text/html:
LOCATION:Old Greenwood Cemetery\, 300 Front Street in Weatherford\, TX
UID:e.2477.21939
SEQUENCE:3
DTSTAMP:20260420T235633Z
URL:http://business.parkercountychamber.com/events/details/talking-tombstone-tour-05-02-2026-21939
END:VEVENT

END:VCALENDAR
