BEGIN:VCALENDAR
VERSION:2.0
PRODID:-//ChamberMaster//Event Calendar 2.0//EN
METHOD:PUBLISH
X-PUBLISHED-TTL:P3D
REFRESH-INTERVAL:P3D
CALSCALE:GREGORIAN
BEGIN:VEVENT
DTSTART:20250129T010000Z
DTEND:20250129T030000Z
X-MICROSOFT-CDO-ALLDAYEVENT:FALSE
SUMMARY:Synesthesia
DESCRIPTION:Jazz Ensemble & Painting Students.
X-ALT-DESC;FMTTYPE=text/html:<span style="color:rgb(0\, 0\, 0)\; font-family:-apple-system\,system-ui\,segoe ui\,roboto\,helvetica\,arial\,sans-serif\,apple color emoji\,segoe ui emoji\,segoe ui symbol">Jazz Ensemble &amp\; Painting Students.</span>
LOCATION:Weatherford College Alkek Fine Arts Center: Alkek Theater 225 College Park Dr.
UID:e.2477.20110
SEQUENCE:3
DTSTAMP:20260423T131807Z
URL:http://business.parkercountychamber.com/events/details/synesthesia-20110
END:VEVENT

END:VCALENDAR
