BEGIN:VCALENDAR
VERSION:2.0
PRODID:-//ChamberMaster//Event Calendar 2.0//EN
METHOD:PUBLISH
X-PUBLISHED-TTL:P3D
REFRESH-INTERVAL:P3D
CALSCALE:GREGORIAN
BEGIN:VEVENT
DTSTART:20250701T153000Z
DTEND:20250701T183000Z
X-MICROSOFT-CDO-ALLDAYEVENT:FALSE
SUMMARY:Summer Evaluation Camp
DESCRIPTION:Take advantage of this opportunity to showcase your ability in front of the Weatherford College Baseball staff. Weatherford College is a division 1 NJCAA program competing in the Northern Texas Athletic Association. The baseball staff at WC will be hosting an evaluation camp at Roger Williams Ballpark on the campus of Weatherford College. This showcase is a great opportunity for high school aged players to participate and be evaluated in a "pro style" showcase event. The evaluation will include speed\, strength\, power\, velocity and mechanics. Your evaluation will be made available to you. It is a great event for seniors looking to gain scholarship opportunities and for underclassmen to get on the recruiting map for the future.\n\n\n\nClick the link for more information:\n\nhttps://wcathletics.com/camps/Evaluation_Camp
X-ALT-DESC;FMTTYPE=text/html:<span style="color:rgb(49\, 49\, 49)\; font-family:arial\,helvetica\,verdana\,tahoma\,sans-serif\; font-size:14px">Take advantage of this opportunity to showcase your ability in front of the Weatherford College Baseball staff. Weatherford College is a division 1 NJCAA program competing in the Northern Texas Athletic Association. The baseball staff at WC will be hosting an evaluation camp at Roger Williams Ballpark on the campus of Weatherford College. This showcase is a great opportunity for high school aged players to participate and be evaluated in a &ldquo\;pro style&rdquo\; showcase event. The evaluation will include speed\, strength\, power\, velocity and mechanics. Your evaluation will be made available to you. It is a great event for seniors looking to gain scholarship opportunities and for underclassmen to get on the recruiting map for the future.</span><br />\n<br />\n<span style="color:rgb(49\, 49\, 49)\; font-family:arial\,helvetica\,verdana\,tahoma\,sans-serif\; font-size:14px">Click the link for more information:</span><br />\n<a href="https://wcathletics.com/camps/Evaluation_Camp" rel="noopener" style="color: inherit\; font-weight: 700\; font-family: Arial\, Helvetica\, Verdana\, Tahoma\, sans-serif\; font-size: 14px\;" target="_blank">https://wcathletics.com/camps/Evaluation_Camp</a>
LOCATION:Weatherford College Roger Williams Ballpark 225 College Park Dr. Weatherford\, TX 76086
UID:e.2477.20356
SEQUENCE:3
DTSTAMP:20260423T042452Z
URL:http://business.parkercountychamber.com/events/details/summer-evaluation-camp-20356
END:VEVENT

END:VCALENDAR
