BEGIN:VCALENDAR
VERSION:2.0
PRODID:-//ChamberMaster//Event Calendar 2.0//EN
METHOD:PUBLISH
X-PUBLISHED-TTL:P3D
REFRESH-INTERVAL:P3D
CALSCALE:GREGORIAN
BEGIN:VEVENT
DTSTART:20210805T220000Z
DTEND:20210806T003000Z
X-MICROSOFT-CDO-ALLDAYEVENT:FALSE
SUMMARY:Sugar Rush Event
DESCRIPTION:Sugar Rush Event benefiting the Children's Advocacy Center of Parker County will be held at the Center located at 1224 Clear Lake Road in Weatherford on August 5th from 5-7:30.  It is an Open House style event with a tour of the building\, appetizers\, drinks and a band.  Please contact the CAC at 682-615-1992 for sponsorship and tickets information.
X-ALT-DESC;FMTTYPE=text/html:Sugar Rush Event benefiting the Children&#39\;s Advocacy Center of Parker County will be held at the Center located at 1224 Clear Lake Road in Weatherford on August 5th from 5-7:30.&nbsp\; It is an Open House style event with a tour of the building\, appetizers\, drinks and a band.&nbsp\; Please contact the CAC at 682-615-1992 for sponsorship and tickets information.&nbsp\;&nbsp\;
LOCATION:
UID:e.2477.14894
SEQUENCE:3
DTSTAMP:20260426T040351Z
URL:http://business.parkercountychamber.com/events/details/sugar-rush-event-14894
END:VEVENT

END:VCALENDAR
