BEGIN:VCALENDAR
VERSION:2.0
PRODID:-//ChamberMaster//Event Calendar 2.0//EN
METHOD:PUBLISH
X-PUBLISHED-TTL:P3D
REFRESH-INTERVAL:P3D
CALSCALE:GREGORIAN
BEGIN:VEVENT
DTSTART:20250114T170000Z
DTEND:20250114T180000Z
X-MICROSOFT-CDO-ALLDAYEVENT:FALSE
SUMMARY:Story Time At Com'on Play Kids
DESCRIPTION:EXCITING NEWS!\n\nThe Library is hosting a story time at Com'on Play Kids January 14th at our 11AM playtime!! \n\n\n\nHow to reserve your spot: Book your playtime online at Comonplaykids.com for this specific date and time! \n\n\n\nWe will begin at 11am by listening and engaging in story time then the children will be able to play the remainder of the play session! \n\nThis play session will be filled with lots of learning\, engaging\, meeting new friends\, imaginary play and getting some energy out!
X-ALT-DESC;FMTTYPE=text/html:EXCITING NEWS!<br />\nThe Library is hosting a story time at Com&rsquo\;on Play Kids January 14th at our 11AM playtime!!&nbsp\;<br />\n<br />\n<strong>How to reserve your spot:</strong> Book your playtime online at Comonplaykids.com for this specific date and time!&nbsp\;<br />\n<br />\nWe will begin at 11am by listening and engaging in story time then the children will be able to play the remainder of the play session!&nbsp\;<br />\nThis play session will be filled with lots of learning\, engaging\, meeting new friends\, imaginary play and getting some energy out!&nbsp\;
LOCATION:225 shops blvd suite 107 willow park TX 76087
UID:e.2477.20114
SEQUENCE:3
DTSTAMP:20260423T133243Z
URL:http://business.parkercountychamber.com/events/details/story-time-at-com-on-play-kids-20114
END:VEVENT

END:VCALENDAR
