BEGIN:VCALENDAR
VERSION:2.0
PRODID:-//ChamberMaster//Event Calendar 2.0//EN
METHOD:PUBLISH
X-PUBLISHED-TTL:P3D
REFRESH-INTERVAL:P3D
CALSCALE:GREGORIAN
BEGIN:VEVENT
DTSTART:20250128T150000Z
DTEND:20250128T170000Z
X-MICROSOFT-CDO-ALLDAYEVENT:FALSE
SUMMARY:Story Time At Com'on Play Kids
DESCRIPTION:?EXCITING NEWS!?\n\nThe Library is hosting a story time at Com'on Play Kids January 28th at our 9AM playtime!! ??\n\n\n\nHow to reserve your spot: Book your playtime online at Comonplaykids.com for this specific date and time! \n\n\n\nWe will begin at 9am by listening and engaging in story time then the children will be able to play the remainder of the play session! \n\nThis play session will be filled with lots of learning\, engaging\, meeting new friends\, imaginary play and getting some energy out! ??
X-ALT-DESC;FMTTYPE=text/html:?EXCITING NEWS!?<br />\nThe Library is hosting a story time at Com&rsquo\;on Play Kids January 28th at our 9AM playtime!! ??<br />\n<br />\n<strong>How to reserve your spot:</strong>&nbsp\;Book your playtime online at Comonplaykids.com for this specific date and time!&nbsp\;<br />\n<br />\nWe will begin at 9am by listening and engaging in story time then the children will be able to play the remainder of the play session!&nbsp\;<br />\nThis play session will be filled with lots of learning\, engaging\, meeting new friends\, imaginary play and getting some energy out! ??
LOCATION:225 shops blvd suite 107 willow park tx 76087
UID:e.2477.20115
SEQUENCE:3
DTSTAMP:20260423T133312Z
URL:http://business.parkercountychamber.com/events/details/story-time-at-com-on-play-kids-01-28-2025-20115
END:VEVENT

END:VCALENDAR
