BEGIN:VCALENDAR
VERSION:2.0
PRODID:-//ChamberMaster//Event Calendar 2.0//EN
METHOD:PUBLISH
X-PUBLISHED-TTL:P3D
REFRESH-INTERVAL:P3D
CALSCALE:GREGORIAN
BEGIN:VEVENT
DTSTART;VALUE=DATE:20220125
DTEND;VALUE=DATE:20220126
TRANSP:TRANSPARENT
X-MICROSOFT-CDO-ALLDAYEVENT:TRUE
SUMMARY:Stock Show and Rodeo Goes Pink for Careity
DESCRIPTION:Join us at the Fort Worth Stock Show and Rodeo on January 25\, 2022\n\n50% of ticket sales go to support Careity's free mammograms and direct services for our cancer patients. https://www.ticketmaster.com/fwssr.../event/0C005B1EDA722E28
X-ALT-DESC;FMTTYPE=text/html:<div>Join us at the Fort Worth Stock Show and Rodeo on January 25\, 2022</div>\n\n<div>50% of ticket sales go to support Careity&rsquo\;s free mammograms and direct services for our cancer patients. <span style="font-family:inherit"><a class="oajrlxb2 g5ia77u1 qu0x051f esr5mh6w e9989ue4 r7d6kgcz rq0escxv nhd2j8a9 nc684nl6 p7hjln8o kvgmc6g5 cxmmr5t8 oygrvhab hcukyx3x jb3vyjys rz4wbd8a qt6c0cv9 a8nywdso i1ao9s8h esuyzwwr f1sip0of lzcic4wl gpro0wi8 py34i1dx" href="https://www.ticketmaster.com/fwssr-prorodeo-tournament-stock-show-goes-fort-worth-texas-01-25-2022/event/0C005B1EDA722E28?fbclid=IwAR3JVzIxskrPKU-5PetYCn3K0z3ONqNg9o4GHCpuIz6NYOJnU0HjIlqeD7o" rel="nofollow noopener" style="color: var(--blue-link)\; cursor: pointer\; text-decoration-line: none\; outline: none\; list-style: none\; border: 0px\; padding: 0px\; margin: 0px\; touch-action: manipulation\; background-color: transparent\; text-align: inherit\; display: inline\; box-sizing: border-box\; font-family: inherit\;" tabindex="0" target="_blank">https://www.ticketmaster.com/fwssr.../event/0C005B1EDA722E28</a></span></div>\n
LOCATION:Dickies Arena
UID:e.2477.16902
SEQUENCE:3
DTSTAMP:20260425T201400Z
URL:http://business.parkercountychamber.com/events/details/stock-show-and-rodeo-goes-pink-for-careity-16902
END:VEVENT

END:VCALENDAR
