BEGIN:VCALENDAR
VERSION:2.0
PRODID:-//ChamberMaster//Event Calendar 2.0//EN
METHOD:PUBLISH
X-PUBLISHED-TTL:P3D
REFRESH-INTERVAL:P3D
CALSCALE:GREGORIAN
BEGIN:VEVENT
DTSTART:20231101T160000Z
DTEND:20231101T170000Z
X-MICROSOFT-CDO-ALLDAYEVENT:FALSE
SUMMARY:Step Into Your Calling Challenge
DESCRIPTION:The Step Into Your Calling Challenge\n\n5-Days Monday thru Friday 10/30 thru 11/03\n\nOne hour per day\, 11:00 am-12:00 pm\n\nFor more details and to Register go to https://StepIntoYourCalling.com\n\n\n\nUnlock your God-given potential\n\nand discover your true calling\n\n\n\n\n\n\n\nGain clarity on your purpose\n\nUnderstand your role in God's plan\n\nCrystalize your vision\n\nOwn your calling\n\nBegin to follow with confidence
X-ALT-DESC;FMTTYPE=text/html:<strong><span style="font-size:20px">The Step Into Your Calling Challenge</span></strong><br />\n5-Days Monday thru Friday 10/30 thru 11/03<br />\nOne hour per day\, 11:00 am-12:00 pm<br />\nFor more details and to Register go to <a href="https://StepIntoYourCalling.com">https://StepIntoYourCalling.com</a>\n<div>\n<div style="text-align:center">\n<div>\n<h1><strong>Unlock your God-given potential</strong><br />\n<strong>and discover your true calling</strong></h1>\n</div>\n</div>\n</div>\n\n<div>\n<div style="text-align:center">\n<div>\n<p>Gain clarity on your purpose<br />\nUnderstand your role in God&#39\;s plan<br />\nCrystalize your vision<br />\nOwn your calling<br />\nBegin to follow with confidence</p>\n</div>\n</div>\n</div>\n
LOCATION:Zoom - for more details and to register visit https://StepIntoYourCalling.com
UID:e.2477.19080
SEQUENCE:3
DTSTAMP:20260424T124700Z
URL:http://business.parkercountychamber.com/events/details/step-into-your-calling-challenge-11-01-2023-19080
END:VEVENT

END:VCALENDAR
