BEGIN:VCALENDAR
VERSION:2.0
PRODID:-//ChamberMaster//Event Calendar 2.0//EN
METHOD:PUBLISH
X-PUBLISHED-TTL:P3D
REFRESH-INTERVAL:P3D
CALSCALE:GREGORIAN
BEGIN:VEVENT
DTSTART:20240407T000000Z
DTEND:20240407T020000Z
X-MICROSOFT-CDO-ALLDAYEVENT:FALSE
SUMMARY:"Stellar Sounds" Opus Nova Chamber Music Series at Chandor Gardens
DESCRIPTION:Chandor Gardens Foundation is thrilled to have Opus Nova Chamber Music Series return to Chandor Gardens in Weatherford\, TX with "Stellar Sounds". A program celebrating the beauty of nature just two days before the Solar Eclipse. This concert explores the wonders of nature with Debussy's Clair de Lune\, Beethoven's Moonlight Sonata\, Piazzolla's Seasons\, and many more. \n\nExperience carefully curated chamber music in the intimate setting of the Great Room\, featuring a newly purchased\, rare 1979 Steinway & Sons Chippendale piano.\n\nThe concert will take place in the Chandor Gardens' Great Room on April 6th at 7 PM (doors open at 6:30 PM)\, featuring Fort Worth Symphony Orchestra principal bassoonist Joshua Elmore\, Opus Nova directors Stas Chernyshev and Ann Hung on clarinets\, and a special guest artist\, Alexander Timofeev. Mr. Timofeev is an award-winning\, Philadelphia-based composer and pianist\, who is joining us specifically for this One Night Only concert. \n\nTickets: $55\n\n(Light appetizers and wine/beer are included in the ticket price)\n\n CLICK HERE TO PURCHASE TICKETS
X-ALT-DESC;FMTTYPE=text/html:<p><span style="font-family:helvetica neue\,serif\; font-size:10.5pt">Chandor Gardens Foundation is thrilled to have <strong>Opus Nova Chamber Music Series</strong> return to Chandor Gardens in Weatherford\, TX with <strong>&ldquo\;Stellar Sounds&rdquo\;</strong>. A program celebrating the beauty of nature just two days before the Solar Eclipse. This concert explores the wonders of nature with Debussy&rsquo\;s Clair de Lune\, Beethoven&rsquo\;s Moonlight Sonata\, Piazzolla&rsquo\;s Seasons\, and many more.</span><span style="font-family:helvetica neue\,serif\; font-size:10.5pt">&nbsp\;</span></p>\n\n<p><span style="font-family:helvetica neue\,serif\; font-size:10.5pt">Experience carefully curated chamber music in the intimate setting of the Great Room\, featuring a newly purchased\, rare 1979 Steinway &amp\; Sons Chippendale piano.</span></p>\n\n<p><span style="font-family:helvetica neue\,serif\; font-size:10.5pt">The concert will take place in the Chandor Gardens&rsquo\; Great Room on April 6th at 7 PM (doors open at 6:30 PM)\, featuring Fort Worth Symphony Orchestra principal bassoonist Joshua Elmore\, Opus Nova directors Stas Chernyshev and Ann Hung on clarinets\, and a special guest artist\, Alexander Timofeev. Mr. Timofeev is an award-winning\, Philadelphia-based composer and pianist\, who is joining us specifically for this One Night Only concert.&nbsp\;</span></p>\n\n<p><span style="font-family:helvetica neue\,serif\; font-size:10.5pt">Tickets: $55</span><br />\n<span style="font-family:helvetica neue\,serif\; font-size:10.5pt">(Light appetizers and wine/beer are included in the ticket price)</span></p>\n\n<p><a href="https://www.eventbrite.com/e/opus-nova-chamber-music-series-stellar-sounds-at-chandor-gardens-tickets-851613869007" target="_blank"><strong><span style="font-family:helvetica neue\,serif"><span style="background-color:#FFFF00">&nbsp\;CLICK HERE TO PURCHASE TICKETS</span></span></strong></a></p>\n\n<p>&nbsp\;</p>\n\n<p>&nbsp\;</p>\n
LOCATION:Chandor Gardens 711 W Lee Avenue Weatherford\, TX 76086
UID:e.2477.19230
SEQUENCE:3
DTSTAMP:20260424T054116Z
URL:http://business.parkercountychamber.com/events/details/stellar-sounds-opus-nova-chamber-music-series-at-chandor-gardens-19230
END:VEVENT

END:VCALENDAR
