BEGIN:VCALENDAR
VERSION:2.0
PRODID:-//ChamberMaster//Event Calendar 2.0//EN
METHOD:PUBLISH
X-PUBLISHED-TTL:P3D
REFRESH-INTERVAL:P3D
CALSCALE:GREGORIAN
BEGIN:VEVENT
DTSTART:20250723T200000Z
DTEND:20250723T210000Z
X-MICROSOFT-CDO-ALLDAYEVENT:FALSE
SUMMARY:STARS\, STRIPES AND SUNDAES! CLEARFORK HONORS OUR VETERAN RESIDENTS
DESCRIPTION:Join us as for a special afternoon as we celebrate and honor the veterans in our community.  Enjoy patriotic music\, including a moving live performance of Taps\, a special guest presenting a gratitude gift to our veterans\, and a concluding color guard ceremony.  After the program stick around for sundaes and refreshments as the live music continues.  It's time to connect\, reflect\, and show our heartfelt thanks to those who served.
X-ALT-DESC;FMTTYPE=text/html:Join us as for a special afternoon as we celebrate and honor the veterans in our community.&nbsp\; Enjoy patriotic music\, including a moving live performance of Taps\, a special guest presenting a gratitude gift to our veterans\, and a concluding color guard ceremony.&nbsp\; After the program stick around for sundaes and refreshments as the live music continues.&nbsp\; It&#39\;s time to connect\, reflect\, and show our heartfelt thanks to those who served.
LOCATION:ClearFork Assisted Living and Memory Care 178 Crown Pointe Willow Park\, Texas 76087
UID:e.2477.20601
SEQUENCE:3
DTSTAMP:20260423T042751Z
URL:http://business.parkercountychamber.com/events/details/stars-stripes-and-sundaes-clearfork-honors-our-veteran-residents-20601
END:VEVENT

END:VCALENDAR
