BEGIN:VCALENDAR
VERSION:2.0
PRODID:-//ChamberMaster//Event Calendar 2.0//EN
METHOD:PUBLISH
X-PUBLISHED-TTL:P3D
REFRESH-INTERVAL:P3D
CALSCALE:GREGORIAN
BEGIN:VEVENT
DTSTART:20260507T220000Z
DTEND:20260508T000000Z
X-MICROSOFT-CDO-ALLDAYEVENT:FALSE
SUMMARY:Spring Student Art Exhibition
DESCRIPTION:Come and join the reception of the Annual Spring Weatherford College Student Art Exhibition.? Reception is from 5:00 P.M. to 7:00 P.M.  Artwork in image are from Ashlynn Reed and Slyvia Rodriguez.
X-ALT-DESC;FMTTYPE=text/html:Come and join the reception of the Annual Spring Weatherford College Student Art Exhibition.? Reception is from 5:00 P.M. to 7:00 P.M.&nbsp\; Artwork in image are from Ashlynn Reed&nbsp\;and Slyvia Rodriguez.
LOCATION:Weatherford College Alkek Fine Arts Center 225 College Park Dr. Weatherford\, TX 76086
UID:e.2477.21923
SEQUENCE:3
DTSTAMP:20260420T222410Z
URL:http://business.parkercountychamber.com/events/details/spring-student-art-exhibition-21923
END:VEVENT

END:VCALENDAR
