BEGIN:VCALENDAR
VERSION:2.0
PRODID:-//ChamberMaster//Event Calendar 2.0//EN
METHOD:PUBLISH
X-PUBLISHED-TTL:P3D
REFRESH-INTERVAL:P3D
CALSCALE:GREGORIAN
BEGIN:VEVENT
DTSTART;VALUE=DATE:20250227
DTEND;VALUE=DATE:20250228
TRANSP:TRANSPARENT
X-MICROSOFT-CDO-ALLDAYEVENT:TRUE
SUMMARY:Sensory Time
DESCRIPTION:Sensory Bins will be here with The Little Porch Co! She makes sensory bins that are thoughtfully put together to encourage a lot of education within one box! This is free with the purchase of your play session! Your children will be able to play with the sensory bins and you can purchase some for your home if you choose!
X-ALT-DESC;FMTTYPE=text/html:<u>Sensory Bins</u><span style="color:rgb(0\, 0\, 0)\; font-family:helvetica neue\,helvetica\,arial\,verdana\,sans-serif\; font-size:16px">&nbsp\;will be here with The Little Porch Co! She makes sensory bins that are thoughtfully put together to encourage a lot of education within one box! This is free with the purchase of your play session! Your children will be able to play with the sensory bins and you can purchase some for your home if you choose!</span>
LOCATION:225 shops blvd suite 107 Willow Park TX
UID:e.2477.20136
SEQUENCE:3
DTSTAMP:20260423T115405Z
URL:http://business.parkercountychamber.com/events/details/sensory-time-20136
END:VEVENT

END:VCALENDAR
