BEGIN:VCALENDAR
VERSION:2.0
PRODID:-//ChamberMaster//Event Calendar 2.0//EN
METHOD:PUBLISH
X-PUBLISHED-TTL:P3D
REFRESH-INTERVAL:P3D
CALSCALE:GREGORIAN
BEGIN:VEVENT
DTSTART;VALUE=DATE:20250213
DTEND;VALUE=DATE:20250214
TRANSP:TRANSPARENT
X-MICROSOFT-CDO-ALLDAYEVENT:TRUE
SUMMARY:Sensory Bins
DESCRIPTION:Sensory Bins will be here with The Little Porch Co! She makes sensory bins that are thoughtfully put together to encourage a lot of education within one box! This is free with the purchase of your play session! Your children will be able to play with the sensory bins and you can purchase some for your home if you choose!
X-ALT-DESC;FMTTYPE=text/html:<u>Sensory Bins</u><span style="color:rgb(0\, 0\, 0)\; font-family:helvetica neue\,helvetica\,arial\,verdana\,sans-serif\; font-size:16px">&nbsp\;will be here with The Little Porch Co! She makes sensory bins that are thoughtfully put together to encourage a lot of education within one box! This is free with the purchase of your play session! Your children will be able to play with the sensory bins and you can purchase some for your home if you choose!</span>
LOCATION:225 shops blvd suite 107\, willow park tx 76087
UID:e.2477.20135
SEQUENCE:3
DTSTAMP:20260423T115433Z
URL:http://business.parkercountychamber.com/events/details/sensory-bins-20135
END:VEVENT

END:VCALENDAR
