BEGIN:VCALENDAR
VERSION:2.0
PRODID:-//ChamberMaster//Event Calendar 2.0//EN
METHOD:PUBLISH
X-PUBLISHED-TTL:P3D
REFRESH-INTERVAL:P3D
CALSCALE:GREGORIAN
BEGIN:VEVENT
DTSTART:20220407T233000Z
DTEND:20220408T013000Z
X-MICROSOFT-CDO-ALLDAYEVENT:FALSE
SUMMARY:Sanctified Hope Old West Round Up Fundraiser
DESCRIPTION:Sanctified Hope Old West Round Up is our Annual Fundraiser for our Christian non-profit 12 month transitional home for women recently released from incarceration.
X-ALT-DESC;FMTTYPE=text/html:Sanctified Hope Old West Round Up is our Annual Fundraiser for our Christian non-profit 12 month transitional home for women recently released from incarceration.&nbsp\;
LOCATION:Parker County Sheriff's Posse Grounds Event Center
UID:e.2477.16894
SEQUENCE:3
DTSTAMP:20260425T154348Z
URL:http://business.parkercountychamber.com/events/details/sanctified-hope-old-west-round-up-fundraiser-16894
END:VEVENT

END:VCALENDAR
