BEGIN:VCALENDAR
VERSION:2.0
PRODID:-//ChamberMaster//Event Calendar 2.0//EN
METHOD:PUBLISH
X-PUBLISHED-TTL:P3D
REFRESH-INTERVAL:P3D
CALSCALE:GREGORIAN
BEGIN:VEVENT
DTSTART:20210812T163000Z
DTEND:20210812T180000Z
X-MICROSOFT-CDO-ALLDAYEVENT:FALSE
SUMMARY:Sanctified Hope Fashion Show Fundraiser
DESCRIPTION:Sanctified Hope's Fashion Show Fundraiser is for women and men alike and is guaranteed to be a great time! We will have a great speaker\, Writer Arlene Gail\, as well as testimonies\, vendor booths\, silent auction\, fashion show of local boutiques and retail establishments and a delicious lunch! Tickets are only $50 and go to support our program which is a faith-based transitional home for women coming out of prison.
X-ALT-DESC;FMTTYPE=text/html:Sanctified Hope&#39\;s Fashion Show Fundraiser is for women and men alike and is guaranteed to be a great time! We will have a great speaker\, Writer Arlene Gail\, as well as testimonies\, vendor booths\, silent auction\, fashion show of local boutiques and retail establishments and a delicious lunch! Tickets are only $50 and go to support our program which is a faith-based transitional home for women coming out of prison.&nbsp\;
LOCATION:Trinity Bible Church 4936 E Interstate 20 Service Rd South Willow Park\, TX 76087
UID:e.2477.15524
SEQUENCE:3
DTSTAMP:20260426T025536Z
URL:http://business.parkercountychamber.com/events/details/sanctified-hope-fashion-show-fundraiser-15524
END:VEVENT

END:VCALENDAR
