BEGIN:VCALENDAR
VERSION:2.0
PRODID:-//ChamberMaster//Event Calendar 2.0//EN
METHOD:PUBLISH
X-PUBLISHED-TTL:P3D
REFRESH-INTERVAL:P3D
CALSCALE:GREGORIAN
BEGIN:VEVENT
DTSTART:20260326T233000Z
DTEND:20260327T013000Z
X-MICROSOFT-CDO-ALLDAYEVENT:FALSE
SUMMARY:Sanctified Hope 2026 RUMBLE
DESCRIPTION:Fun Evening Fundraiser with a throwback to the 50's - think Sock-Hop Era with Poodle Skirts\, Classic Cars and Rock'N Roll! We will have great testimonies from our ladies as well!
X-ALT-DESC;FMTTYPE=text/html:Fun Evening Fundraiser with a throwback to the 50&#39\;s - think Sock-Hop Era with Poodle Skirts\, Classic Cars and Rock&#39\;N Roll! We will have great testimonies from our ladies as well!&nbsp\;
LOCATION:Willow Park Baptist Church 777 Crown Pointe Blvd Willow Park\, TX 76087
UID:e.2477.20927
SEQUENCE:3
DTSTAMP:20260421T032332Z
URL:http://business.parkercountychamber.com/events/details/sanctified-hope-2026-rumble-20927
END:VEVENT

END:VCALENDAR
