BEGIN:VCALENDAR
VERSION:2.0
PRODID:-//ChamberMaster//Event Calendar 2.0//EN
METHOD:PUBLISH
X-PUBLISHED-TTL:P3D
REFRESH-INTERVAL:P3D
CALSCALE:GREGORIAN
BEGIN:VEVENT
DTSTART;VALUE=DATE:20240423
DTEND;VALUE=DATE:20240424
TRANSP:TRANSPARENT
X-MICROSOFT-CDO-ALLDAYEVENT:TRUE
SUMMARY:Sanctified Hope 2024 Round Up
DESCRIPTION:Fundraiser event for Sanctified Hope\, Transitional Home for Women coming out of Incarceration
X-ALT-DESC;FMTTYPE=text/html:Fundraiser event for Sanctified Hope\, Transitional Home for Women coming out of Incarceration
LOCATION:Willow Park Baptist 777 Crown Pointe Blvd Willow Park\, TX 76087
UID:e.2477.19217
SEQUENCE:3
DTSTAMP:20260424T053919Z
URL:http://business.parkercountychamber.com/events/details/sanctified-hope-2024-round-up-19217
END:VEVENT

END:VCALENDAR
