BEGIN:VCALENDAR
VERSION:2.0
PRODID:-//ChamberMaster//Event Calendar 2.0//EN
METHOD:PUBLISH
X-PUBLISHED-TTL:P3D
REFRESH-INTERVAL:P3D
CALSCALE:GREGORIAN
BEGIN:VEVENT
DTSTART:20240906T150000Z
DTEND:20240906T170000Z
X-MICROSOFT-CDO-ALLDAYEVENT:FALSE
SUMMARY:Sanctified Hope 2024 Fashion Show "Timeless Beauty"
DESCRIPTION:Sanctified Hope Fundraiser Brunch Event and Fashion Show
X-ALT-DESC;FMTTYPE=text/html:Sanctified Hope Fundraiser Brunch Event and Fashion Show
LOCATION:Trinity Bible Church 4936 E Interstate 20 Service Rd S Willow Park\, TX 76087
UID:e.2477.19734
SEQUENCE:3
DTSTAMP:20260423T235405Z
URL:http://business.parkercountychamber.com/events/details/sanctified-hope-2024-fashion-show-timeless-beauty-19734
END:VEVENT

END:VCALENDAR
