BEGIN:VCALENDAR
VERSION:2.0
PRODID:-//ChamberMaster//Event Calendar 2.0//EN
METHOD:PUBLISH
X-PUBLISHED-TTL:P3D
REFRESH-INTERVAL:P3D
CALSCALE:GREGORIAN
BEGIN:VEVENT
DTSTART:20241031T230000Z
DTEND:20241101T020000Z
X-MICROSOFT-CDO-ALLDAYEVENT:FALSE
SUMMARY:Safe Halloween
DESCRIPTION:The Weatherford College Police Department is proud to sponsor the 26th annual Safe Halloween event.  This is a free event for the community.  We ask that you bring canned goods to donate\, if possible.  Please join us for another fun filled Halloween!  Event will begin at 5:00 pm for special needs families\, 6:00 pm for everyone else\, and conclude around 9:00 pm.  To donate\, become a vendor\, or for more information contact WCPD at wcpd@wc.edu or 817-598-6316.
X-ALT-DESC;FMTTYPE=text/html:<span style="color:rgb(0\, 0\, 0)\; font-family:source sans pro\,helvetica\,tahoma\,geneva\,arial\,sans-serif\; font-size:16px">The Weatherford College Police Department is proud to sponsor the 26th annual Safe Halloween event.&nbsp\; This is a free event for the community.&nbsp\; We ask that you bring canned goods to donate\, if possible.&nbsp\; Please join us for another fun filled Halloween!&nbsp\; Event will begin at 5:00 pm for special needs families\, 6:00 pm for everyone else\, and conclude around 9:00 pm.&nbsp\; To donate\, become a vendor\, or for more information contact&nbsp\;WCPD&nbsp\;at&nbsp\;wcpd@wc.edu or 817-598-6316.</span><br />\n&nbsp\;
LOCATION:Weatherford College North Parking Lot 225 College Park Dr.
UID:e.2477.19755
SEQUENCE:3
DTSTAMP:20260423T211356Z
URL:http://business.parkercountychamber.com/events/details/safe-halloween-19755
END:VEVENT

END:VCALENDAR
