BEGIN:VCALENDAR
VERSION:2.0
PRODID:-//ChamberMaster//Event Calendar 2.0//EN
METHOD:PUBLISH
X-PUBLISHED-TTL:P3D
REFRESH-INTERVAL:P3D
CALSCALE:GREGORIAN
BEGIN:VEVENT
DTSTART:20211107T010000Z
DTEND:20211107T030000Z
X-MICROSOFT-CDO-ALLDAYEVENT:FALSE
SUMMARY:ROCKET MAN
DESCRIPTION:Theatre Off The Square proudly presents "ROCKET MAN" by Steven Dietz. This play is directed by Tyler Burden\; the assistant directors are Wally Jones and Jacob Myers\; and the stage manager is Jordyn Mahar Nelson. The show begins Friday\, October 22 and runs weekends through November 7. Show times are Friday and Saturday at 8 p.m. and Sunday at 2 p.m. Theatre Off The Square is located at 114 North Denton Street\, Weatherford.\n\n \n\nASL interpreters will be at the performance on Saturday\, October 30 at 8:00 pm. Services are provided through a partnership with the American Sign Language Interpreting Program of Tarrant County College Trinity River Campus.\n\n \n\nROCKET MAN is a serious comedy about the road not taken. Donny Rowan has placed everything he owns on his front lawn\, along with a sign that reads: "Here's my life. Make an offer." He has cut a skylight into his attic and placed his E-Z Boy recliner underneath where he can sit\, staring at the stars. Somewhere in the universe\, Donny believes\, is a place where all the roads we never chose converge. ROCKET MAN explores one man's obsessive desire to find this "parallel world" and the profound effect of his decision on his family and friends.\n\n \n\nThe cast includes:  Donny   Mark Gillies\, Buck   Lewis Schwartz\, Trisha   MacKenzie Ayon\, Rita   Dana Powers\, and Louise   Kate Cowling.\n\n\n\nThis play is produced by special arrangement with Dramatists Play Service\, Inc.
X-ALT-DESC;FMTTYPE=text/html:<span style="color:black"><span style="font-family:times new roman\,serif">Theatre Off The Square proudly presents &ldquo\;ROCKET MAN&rdquo\; by Steven Dietz. </span></span><span style="font-family:times new roman\,serif">This play is directed by Tyler Burden\; the assistant directors are Wally Jones and Jacob Myers\; and the stage manager is Jordyn Mahar Nelson. </span><span style="font-family:times new roman\,serif">The </span><span style="font-family:times new roman\,serif">show begins Friday\, October 22 and runs weekends through November 7. </span><span style="font-family:times new roman\,serif">Show times are Friday and Saturday at 8 p.m. and Sunday at 2 p.m. Theatre Off The Square is located at 114 North Denton Street\, Weatherford.</span><br />\n&nbsp\;<br />\n<span style="font-size:11.0pt">ASL interpreters will be at the performance on Saturday\, October 30 at 8:00 pm. Services are provided through a partnership with the American Sign Language Interpreting Program of Tarrant County College Trinity River Campus.</span><br />\n&nbsp\;<br />\n<span style="font-family:times new roman\,serif">ROCKET MAN is a serious comedy about the road not taken. Donny Rowan has placed everything he owns on his front lawn\, along with a sign that reads: &quot\;Here&#39\;s my life. Make an offer.&quot\; He has cut a skylight into his attic and placed his E-Z Boy recliner underneath&mdash\;where he can sit\, staring at the stars. Somewhere in the universe\, Donny believes\, is a place where all the roads we never chose converge. ROCKET MAN explores one man&#39\;s obsessive desire to find this &quot\;parallel world&quot\;&mdash\;and the profound effect of his decision on his family and friends.</span><br />\n&nbsp\;<br />\n<span style="font-family:times new roman\,serif">The cast includes:&nbsp\; Donny &ndash\; Mark Gillies\, Buck &ndash\; Lewis Schwartz\, Trisha &ndash\; MacKenzie Ayon\, Rita &ndash\; Dana Powers\, and Louise &ndash\; Kate Cowling.<br />\n<br />\nThis play is produced by special arrangement with Dramatists Play Service\, Inc. </span><br />\n<br />\n&nbsp\;
LOCATION:Theatre Off The Square 114 North Denton Street Weatherford
UID:e.2477.15603
SEQUENCE:3
DTSTAMP:20260425T223130Z
URL:http://business.parkercountychamber.com/events/details/rocket-man-11-06-2021-15603
END:VEVENT

END:VCALENDAR
