BEGIN:VCALENDAR
VERSION:2.0
PRODID:-//ChamberMaster//Event Calendar 2.0//EN
METHOD:PUBLISH
X-PUBLISHED-TTL:P3D
REFRESH-INTERVAL:P3D
CALSCALE:GREGORIAN
BEGIN:VEVENT
DTSTART:20250531T170000Z
DTEND:20250531T173000Z
X-MICROSOFT-CDO-ALLDAYEVENT:FALSE
SUMMARY:Ribbon Cutting - The Malt Shop
DESCRIPTION:Ribbon Cutting Ceremony Alert!\n\nWe are thrilled to announce The Malt Shop has joined the Parker County Chamber of Commerce!\n\nJoin us as we celebrate this exciting occasion with a ribbon-cutting ceremony.\n\nDate: May 31\, 2025\n\nTime: 11:00am   3:00pm  Ribbon Cutting at 12:00\n\nLocation: 2028 Fort Worth Highway\, Weatherford\n\n \n\nLet's come together as a community to welcome The Malt Shop and show our support for their new venture! Everyone is invited and encouraged to attend.\n\nSee you there!
X-ALT-DESC;FMTTYPE=text/html:<strong><span style="color:black\;"><span style="font-size:18.0pt\;">Ribbon Cutting Ceremony Alert!</span></span></strong><br />\n<span style="color:black\;"><span style="font-family:times new roman\,serif\;"><span style="font-size:18.0pt\;">We are thrilled to announce <a name="_Hlk194320782">The Malt Shop </a>has joined the Parker County Chamber of Commerce!</span></span></span><br />\n<span style="color:black\;"><span style="font-family:times new roman\,serif\;"><span style="font-size:18.0pt\;">Join us as we celebrate this exciting occasion with a ribbon-cutting ceremony.</span></span></span><br />\n<strong><span style="color:black\;"><span style="font-size:18.0pt\;">Date:</span></span></strong><span style="color:black\;"><span style="font-family:times new roman\,serif\;"><span style="font-size:18.0pt\;"> May 31\, 2025<br />\n<strong>Time:</strong> 11:00am &ndash\; 3:00pm&nbsp\; <span style="background:yellow\;">Ribbon Cutting at 12:00</span><br />\n<strong>Location:</strong> 2028 Fort Worth Highway\, Weatherford</span></span></span><br />\n&nbsp\;<br />\n<span style="color:black\;"><span style="font-family:times new roman\,serif\;"><span style="font-size:18.0pt\;">Let&rsquo\;s come together as a community to welcome The Malt Shop and show our support for their new venture! Everyone is invited and encouraged to attend.</span></span></span><br />\n<span style="color:black\;"><span style="font-family:times new roman\,serif\;"><span style="font-size:18.0pt\;">See you there!</span></span></span>
LOCATION:
UID:e.2477.20409
SEQUENCE:3
DTSTAMP:20260423T085819Z
URL:http://business.parkercountychamber.com/events/details/ribbon-cutting-the-malt-shop-20409
END:VEVENT

END:VCALENDAR
