BEGIN:VCALENDAR
VERSION:2.0
PRODID:-//ChamberMaster//Event Calendar 2.0//EN
METHOD:PUBLISH
X-PUBLISHED-TTL:P3D
REFRESH-INTERVAL:P3D
CALSCALE:GREGORIAN
BEGIN:VEVENT
DTSTART:20241107T170000Z
DTEND:20241107T173000Z
X-MICROSOFT-CDO-ALLDAYEVENT:FALSE
SUMMARY:Ribbon Cutting - Pure Barre
DESCRIPTION:Ribbon Cutting Ceremony Alert! \n\nWe are thrilled to announce that Pure Barre has joined the Parker County Chamber of Commerce!\n\nJoin us as we celebrate this exciting occasion with a ribbon-cutting ceremony.\n\nDate: November 7\, 2024\n\nTime: 11:00am   11:30am\n\nLocation: 243 Willow Bend 101-B\, Willow Park\, Texas 76008\n\nCome together as a community to welcome Pure Barre and show our support for their new venture! Everyone is invited and encouraged to attend.\n\nSee you there!
X-ALT-DESC;FMTTYPE=text/html:<p><strong><span style="font-size:18.0pt\;color:black">Ribbon Cutting Ceremony Alert!</span></strong><span style="font-size:18.0pt\;font-family:&quot\;Times New Roman&quot\;\,serif\;\ncolor:black"> <o:p></o:p></span></p>\n\n<p><span style="font-size:18.0pt\;font-family:&quot\;Times New Roman&quot\;\,serif\;\ncolor:black">We are thrilled to announce that Pure Barre has joined the Parker County Chamber of Commerce!<o:p></o:p></span></p>\n\n<p><span style="font-size:18.0pt\;font-family:&quot\;Times New Roman&quot\;\,serif\;\ncolor:black">Join us as we celebrate this exciting occasion with a ribbon-cutting ceremony.<o:p></o:p></span></p>\n\n<p><strong><span style="font-size:18.0pt\;color:black">Date:</span></strong><span style="font-size:18.0pt\;font-family:&quot\;Times New Roman&quot\;\,serif\;color:black"> November 7\, 2024<br />\n<strong>Time:</strong> 11:00am &ndash\; 11:30am<br />\n<strong>Location:</strong> 243 Willow Bend 101-B\, Willow Park\, Texas 76008<o:p></o:p></span></p>\n\n<p><span style="font-size:18.0pt\;font-family:&quot\;Times New Roman&quot\;\,serif\;\ncolor:black">Come together as a community to welcome Pure Barre and show our support for their new venture! Everyone is invited and encouraged to attend.<o:p></o:p></span></p>\n\n<p><span style="font-size:18.0pt\;font-family:&quot\;Times New Roman&quot\;\,serif\;\ncolor:black">See you there!<o:p></o:p></span></p>\n
LOCATION:
UID:e.2477.19762
SEQUENCE:3
DTSTAMP:20260423T211537Z
URL:http://business.parkercountychamber.com/events/details/ribbon-cutting-pure-barre-19762
END:VEVENT

END:VCALENDAR
