BEGIN:VCALENDAR
VERSION:2.0
PRODID:-//ChamberMaster//Event Calendar 2.0//EN
METHOD:PUBLISH
X-PUBLISHED-TTL:P3D
REFRESH-INTERVAL:P3D
CALSCALE:GREGORIAN
BEGIN:VEVENT
DTSTART:20240530T160000Z
DTEND:20240530T170000Z
X-MICROSOFT-CDO-ALLDAYEVENT:FALSE
SUMMARY:Ribbon Cutting - Parker County Precinct 3
DESCRIPTION:Join Parker County Precinct 3\, the Upper Trinity GCD\, and the Parker County CC for our rainwater harvesting ribbon cutting. \n\n\n\nParker County Precinct 3 was recently awarded funds and completed an extensive rainwater harvesting system at their Precinct 3 headquarters.\n\n\n\nJoin us for an afternoon of fun and education as we will have refreshments\, rainwater harvesting barrel giveaways\, and much more!\n\n\n\nFor more information call Parker County Precinct 3 at 682-539-2599 or the Upper Trinity at 817-523-5200
X-ALT-DESC;FMTTYPE=text/html:Join Parker County Precinct 3\, the Upper Trinity GCD\, and the Parker County CC for our rainwater harvesting ribbon cutting.&nbsp\;<br />\n<br />\nParker County Precinct 3 was recently awarded funds and completed an extensive rainwater harvesting system at their Precinct 3 headquarters.<br />\n<br />\nJoin us for an afternoon of fun and education as we will have refreshments\, rainwater harvesting barrel giveaways\, and much more!<br />\n<br />\nFor more information call Parker County Precinct 3 at 682-539-2599 or the Upper Trinity at 817-523-5200
LOCATION:1111 FM 1189\, Weatherford\, TX 76087
UID:e.2477.19418
SEQUENCE:3
DTSTAMP:20260424T040922Z
URL:http://business.parkercountychamber.com/events/details/ribbon-cutting-parker-county-precinct-3-19418
END:VEVENT

END:VCALENDAR
