BEGIN:VCALENDAR
VERSION:2.0
PRODID:-//ChamberMaster//Event Calendar 2.0//EN
METHOD:PUBLISH
X-PUBLISHED-TTL:P3D
REFRESH-INTERVAL:P3D
CALSCALE:GREGORIAN
BEGIN:VEVENT
DTSTART:20260203T210000Z
DTEND:20260203T213000Z
X-MICROSOFT-CDO-ALLDAYEVENT:FALSE
SUMMARY:Ribbon Cutting/Open House - Edward Jones: Donna Alberts
DESCRIPTION:Ribbon Cutting/Open House Ceremony Alert!\n\nWe are thrilled to announce that Edward Jones: Donna Alberts has joined the Parker County Chamber of Commerce!\n\nJoin us as we celebrate this exciting occasion with a ribbon-cutting ceremony.\n\nDate: February 3\, 2026\n\nTime: 3:00pm  3:30pm \n\nLocation: 300 S. Main Street\, Suite 200\, Weatherford\n\nLet's come together as a community to welcome Edward Jones: Donna Alberts and show our support for their new venture! Everyone is invited and encouraged to attend.\n\nSee you there!
X-ALT-DESC;FMTTYPE=text/html:<strong><span style="color:black\;"><span style="font-size:18.0pt\;">Ribbon Cutting/Open House Ceremony Alert!</span></span></strong><br />\n<span style="color:black\;"><span style="font-family:times new roman\,serif\;"><span style="font-size:18.0pt\;">We are thrilled to announce that Edward Jones: Donna Alberts has joined the Parker County Chamber of Commerce!</span></span></span><br />\n<span style="color:black\;"><span style="font-family:times new roman\,serif\;"><span style="font-size:18.0pt\;">Join us as we celebrate this exciting occasion with a ribbon-cutting ceremony.</span></span></span><br />\n<strong><span style="color:black\;"><span style="font-size:18.0pt\;">Date:</span></span></strong><span style="color:black\;"><span style="font-family:times new roman\,serif\;"><span style="font-size:18.0pt\;"> February 3\, 2026<br />\n<strong>Time:</strong> 3:00pm &ndash\;3:30pm&nbsp\;<br />\n<strong>Location:</strong> 300 S. Main Street\, Suite 200\, Weatherford</span></span></span><br />\n<span style="color:black\;"><span style="font-family:times new roman\,serif\;"><span style="font-size:18.0pt\;">Let&rsquo\;s come together as a community to welcome Edward Jones: Donna Alberts and show our support for their new venture! Everyone is invited and encouraged to attend.</span></span></span><br />\n<span style="color:black\;"><span style="font-family:times new roman\,serif\;"><span style="font-size:18.0pt\;">See you there!</span></span></span>
LOCATION:
UID:e.2477.21714
SEQUENCE:3
DTSTAMP:20260421T045656Z
URL:http://business.parkercountychamber.com/events/details/ribbon-cutting-open-house-edward-jones-donna-alberts-21714
END:VEVENT

END:VCALENDAR
