BEGIN:VCALENDAR
VERSION:2.0
PRODID:-//ChamberMaster//Event Calendar 2.0//EN
METHOD:PUBLISH
X-PUBLISHED-TTL:P3D
REFRESH-INTERVAL:P3D
CALSCALE:GREGORIAN
BEGIN:VEVENT
DTSTART:20260116T170000Z
DTEND:20260116T173000Z
X-MICROSOFT-CDO-ALLDAYEVENT:FALSE
SUMMARY:Ribbon Cutting - Legacy Longhorn Ranch & RV Resort
DESCRIPTION:Ribbon Cutting Alert!\n\nWe are thrilled to announce that Legacy Longhorn Ranch & RV Resort has joined the Parker County Chamber of Commerce!\n\nJoin us as we celebrate this exciting occasion with a ribbon-cutting ceremony.\n\nDate: January 16\, 2026\n\nTime: 11:00am  11:30am \n\nLocation: 764 Jones Road\, Weatherford\n\n \n\nLet's come together as a community to welcome Legacy Longhorn Ranch & RV Resort and show our support for their new venture! Everyone is invited and encouraged to attend.\n\nSee you there!
X-ALT-DESC;FMTTYPE=text/html:<strong><span style="color:black\;"><span style="font-size:18.0pt\;">Ribbon Cutting Alert!</span></span></strong><br />\n<span style="color:black\;"><span style="font-family:times new roman\,serif\;"><span style="font-size:18.0pt\;">We are thrilled to announce that Legacy Longhorn Ranch &amp\; RV Resort has joined the Parker County Chamber of Commerce!</span></span></span><br />\n<span style="color:black\;"><span style="font-family:times new roman\,serif\;"><span style="font-size:18.0pt\;">Join us as we celebrate this exciting occasion with a ribbon-cutting ceremony.</span></span></span><br />\n<strong><span style="color:black\;"><span style="font-size:18.0pt\;">Date:</span></span></strong><span style="color:black\;"><span style="font-family:times new roman\,serif\;"><span style="font-size:18.0pt\;"> January 16\, 2026<br />\n<strong>Time:</strong> 11:00am &ndash\;11:30am&nbsp\;<br />\n<strong>Location:</strong> 764 Jones Road\, Weatherford</span></span></span><br />\n&nbsp\;<br />\n<span style="color:black\;"><span style="font-family:times new roman\,serif\;"><span style="font-size:18.0pt\;">Let&rsquo\;s come together as a community to welcome Legacy Longhorn Ranch &amp\; RV Resort and show our support for their new venture! Everyone is invited and encouraged to attend.</span></span></span><br />\n<span style="color:black\;"><span style="font-family:times new roman\,serif\;"><span style="font-size:18.0pt\;">See you there!</span></span></span>
LOCATION:
UID:e.2477.21722
SEQUENCE:3
DTSTAMP:20260421T063721Z
URL:http://business.parkercountychamber.com/events/details/ribbon-cutting-legacy-longhorn-ranch-rv-resort-21722
END:VEVENT

END:VCALENDAR
