BEGIN:VCALENDAR
VERSION:2.0
PRODID:-//ChamberMaster//Event Calendar 2.0//EN
METHOD:PUBLISH
X-PUBLISHED-TTL:P3D
REFRESH-INTERVAL:P3D
CALSCALE:GREGORIAN
BEGIN:VEVENT
DTSTART:20260429T160000Z
DTEND:20260429T163000Z
X-MICROSOFT-CDO-ALLDAYEVENT:FALSE
SUMMARY:Ribbon Cutting - Kings Gate
DESCRIPTION:
X-ALT-DESC;FMTTYPE=text/html:
LOCATION:460 Shop Blvd.\, Ste. 200 Willow Park\, 79087
UID:e.2477.21881
SEQUENCE:3
DTSTAMP:20260421T031040Z
URL:http://business.parkercountychamber.com/events/details/ribbon-cutting-kings-gate-21881
END:VEVENT

END:VCALENDAR
