BEGIN:VCALENDAR
VERSION:2.0
PRODID:-//ChamberMaster//Event Calendar 2.0//EN
METHOD:PUBLISH
X-PUBLISHED-TTL:P3D
REFRESH-INTERVAL:P3D
CALSCALE:GREGORIAN
BEGIN:VEVENT
DTSTART:20240917T160000Z
DTEND:20240917T163000Z
X-MICROSOFT-CDO-ALLDAYEVENT:FALSE
SUMMARY:Ribbon Cutting - Guild Mortgage
DESCRIPTION:Ribbon Cutting Ceremony Alert! \n\nWe are thrilled to announce that Guild Mortgage has joined the Parker County Chamber of Commerce!\n\nJoin us as we celebrate this exciting occasion with a ribbon-cutting ceremony.\n\nDate: September 17\, 2024\n\nTime: 11:00am   11:30am\n\nLocation: Parker County Chamber of Commerce\n\n100 Chuck Wagon Trail\, Willow Park\n\nLet's come together as a community to welcome Guild Mortgage and show our support for their new venture! Everyone is invited and encouraged to attend.\n\nSee you there!
X-ALT-DESC;FMTTYPE=text/html:<p><strong><span style="font-size:18.0pt\;color:black">Ribbon Cutting Ceremony Alert!</span></strong><span style="font-size:18.0pt\;font-family:&quot\;Times New Roman&quot\;\,serif\;\ncolor:black"> <o:p></o:p></span></p>\n\n<p><span style="font-size:18.0pt\;font-family:&quot\;Times New Roman&quot\;\,serif\;\ncolor:black">We are thrilled to announce that Guild Mortgage has joined the Parker County Chamber of Commerce!<o:p></o:p></span></p>\n\n<p><span style="font-size:18.0pt\;font-family:&quot\;Times New Roman&quot\;\,serif\;\ncolor:black">Join us as we celebrate this exciting occasion with a ribbon-cutting ceremony.<o:p></o:p></span></p>\n\n<p><strong><span style="font-size:18.0pt\;color:black">Date:</span></strong><span style="font-size:18.0pt\;font-family:&quot\;Times New Roman&quot\;\,serif\;color:black"> September 17\, 2024<br />\n<strong>Time:</strong> 11:00am &ndash\; 11:30am<br />\n<strong>Location:</strong> Parker County Chamber of Commerce<br />\n100 Chuck Wagon Trail\, Willow Park<o:p></o:p></span></p>\n\n<p><span style="font-size:18.0pt\;font-family:&quot\;Times New Roman&quot\;\,serif\;\ncolor:black">Let&#39\;s come together as a community to welcome Guild Mortgage and show our support for their new venture! Everyone is invited and encouraged to attend.<o:p></o:p></span></p>\n\n<p><span style="font-size:18.0pt\;font-family:&quot\;Times New Roman&quot\;\,serif\;\ncolor:black">See you there!<o:p></o:p></span></p>\n
LOCATION:Chamber Office 100 Chuck Wagon Trail Willow Park
UID:e.2477.19718
SEQUENCE:3
DTSTAMP:20260423T235036Z
URL:http://business.parkercountychamber.com/events/details/ribbon-cutting-guild-mortgage-19718
END:VEVENT

END:VCALENDAR
