BEGIN:VCALENDAR
VERSION:2.0
PRODID:-//ChamberMaster//Event Calendar 2.0//EN
METHOD:PUBLISH
X-PUBLISHED-TTL:P3D
REFRESH-INTERVAL:P3D
CALSCALE:GREGORIAN
BEGIN:VEVENT
DTSTART:20220621T160000Z
DTEND:20220621T163000Z
X-MICROSOFT-CDO-ALLDAYEVENT:FALSE
SUMMARY:Ribbon Cutting for PINNACLE PERFORMANCE CARE\, LLC
DESCRIPTION:Please join us for this ribbon cutting. They are also offering IV Therapy treatments at the event but you will need to call Danielle and make a reservation 817-874-7837.
X-ALT-DESC;FMTTYPE=text/html:Please join us for this ribbon cutting. They are also offering IV Therapy treatments at the event but you will need to call Danielle and make a reservation 817-874-7837.
LOCATION:Chamber office 100 Chuckwagon Trail Willow Park\, TX 76087
UID:e.2477.17774
SEQUENCE:3
DTSTAMP:20260425T131427Z
URL:http://business.parkercountychamber.com/events/details/ribbon-cutting-for-pinnacle-performance-care-llc-17774
END:VEVENT

END:VCALENDAR
