BEGIN:VCALENDAR
VERSION:2.0
PRODID:-//ChamberMaster//Event Calendar 2.0//EN
METHOD:PUBLISH
X-PUBLISHED-TTL:P3D
REFRESH-INTERVAL:P3D
CALSCALE:GREGORIAN
BEGIN:VEVENT
DTSTART:20260328T180000Z
DTEND:20260328T200000Z
X-MICROSOFT-CDO-ALLDAYEVENT:FALSE
SUMMARY:Ribbon Cutting - Driftwood Bed n Boarding
DESCRIPTION:Ribbon Cutting Alert!\n\nWe are thrilled to announce that Driftwood Bed N Boarding has joined the Parker County Chamber of Commerce!\n\nJoin us as we celebrate this exciting occasion with a ribbon-cutting ceremony.\n\nDate: February 28\, 2026\n\nTime: 12:00pm  3:00pm (1:00pm ribbon cutting)\n\nLocation: 3824 Old Dennis Road\, Weatherford\n\n \n\nLet's come together as a community to welcome Driftwood Bed N Boarding and show our support for their new venture! Everyone is invited and encouraged to attend.\n\nSee you there!
X-ALT-DESC;FMTTYPE=text/html:<strong><span style="color:black\;"><span style="font-size:18.0pt\;">Ribbon Cutting Alert!</span></span></strong><br />\n<span style="color:black\;"><span style="font-family:times new roman\,serif\;"><span style="font-size:18.0pt\;">We are thrilled to announce that Driftwood Bed N Boarding has joined the Parker County Chamber of Commerce!</span></span></span><br />\n<span style="color:black\;"><span style="font-family:times new roman\,serif\;"><span style="font-size:18.0pt\;">Join us as we celebrate this exciting occasion with a ribbon-cutting ceremony.</span></span></span><br />\n<strong><span style="color:black\;"><span style="font-size:18.0pt\;">Date:</span></span></strong><span style="color:black\;"><span style="font-family:times new roman\,serif\;"><span style="font-size:18.0pt\;"> February 28\, 2026<br />\n<strong>Time:</strong> 12:00pm &ndash\;3:00pm (1:00pm ribbon cutting)<br />\n<strong>Location:</strong> 3824 Old Dennis Road\, Weatherford</span></span></span><br />\n&nbsp\;<br />\n<span style="color:black\;"><span style="font-family:times new roman\,serif\;"><span style="font-size:18.0pt\;">Let&rsquo\;s come together as a community to welcome Driftwood Bed N Boarding and show our support for their new venture! Everyone is invited and encouraged to attend.</span></span></span><br />\n<span style="color:black\;"><span style="font-family:times new roman\,serif\;"><span style="font-size:18.0pt\;">See you there!</span></span></span>
LOCATION:
UID:e.2477.21717
SEQUENCE:3
DTSTAMP:20260422T194048Z
URL:http://business.parkercountychamber.com/events/details/ribbon-cutting-driftwood-bed-n-boarding-21717
END:VEVENT

END:VCALENDAR
