BEGIN:VCALENDAR
VERSION:2.0
PRODID:-//ChamberMaster//Event Calendar 2.0//EN
METHOD:PUBLISH
X-PUBLISHED-TTL:P3D
REFRESH-INTERVAL:P3D
CALSCALE:GREGORIAN
BEGIN:VEVENT
DTSTART:20250306T190000Z
DTEND:20250306T230000Z
X-MICROSOFT-CDO-ALLDAYEVENT:FALSE
SUMMARY:Realtor Headshot and Marketing Day
DESCRIPTION:We're invested in your success at Kelly Title\, and that's why we're bringing the pros in to support your marketing for 2025! Sponsored by Evelyn Ritchie and Stacey Olivarez of Guild Mortgage Company\, we're helping you elevate your brand with a brand new headshot\, ad professional video for your content\, and a complimentary audit of your social media and web presence by a professional marketing agency.\n\n\n\nCome see how the right title team\, backed by the right resources\, can help make 2025 your year of growth!\n\n\n\nRSVP to Christy at christy.dauenhauer@kellytitle.com
X-ALT-DESC;FMTTYPE=text/html:<div>\n<div>We&#39\;re invested in your success at <strong>Kelly Title</strong>\, and that&#39\;s why we&#39\;re bringing the pros in to support your marketing for 2025! Sponsored by Evelyn Ritchie and Stacey Olivarez of <span style="font-family:inherit"><a class="x1i10hfl xjbqb8w x1ejq31n xd10rxx x1sy0etr x17r0tee x972fbf xcfux6l x1qhh985 xm0m39n x9f619 x1ypdohk xt0psk2 xe8uvvx xdj266r x11i5rnm xat24cr x1mh8g0r xexx8yu x4uap5 x18d9i69 xkhd6sd x16tdsg8 x1hl2dhg xggy1nq x1a2a7pz x1sur9pj xkrqix3 x1fey0fg x1s688f" href="https://www.facebook.com/GuildMortgageHome?__cft__[0]=AZWXmB3a4m4bDI61DLhYUtO7keP1iFx5MiohZkN8ro6yg5YDNPFSpH-CHZM_urxY_UX92VXvyXXP6GrNwobmOTqNQ8JLK-YMKiXMH_3-RACgzx4WoSYzmB0r7xKLFVjHIWd78ETZG_MOJVIS0Vk1sEU7IFXgWQhGvARWmV5vmjZhVm2lTVzLzqGakQpizPflkoyJ6mF_FThVd68g_aYPL2G5&amp\;__tn__=-]K-R" style="cursor: pointer\; text-decoration-line: none\; list-style: none\; margin: 0px\; text-align: inherit\; border-style: none\; padding: 0px\; box-sizing: border-box\; border-width: 0px\; outline: none\; -webkit-tap-highlight-color: transparent\; font-weight: 600\; touch-action: manipulation\; background-color: transparent\; display: inline\; font-family: inherit\;" tabindex="0"><span style="font-family:inherit">Guild Mortgage Company</span></a></span>\, we&#39\;re helping you elevate your brand with a brand new headshot\, ad professional video for your content\, and a complimentary audit of your social media and web presence by a professional marketing agency.</div>\n</div>\n\n<div>\n<div>Come see how the right title team\, backed by the right resources\, can help make 2025 your year of growth!</div>\n</div>\n\n<div>\n<div>RSVP to Christy at christy.dauenhauer@kellytitle.com</div>\n</div>\n
LOCATION:Kelly Title 5100 Kelly Road\, Ste. 2 Aledo\, TX 76008
UID:e.2477.20172
SEQUENCE:3
DTSTAMP:20260423T115051Z
URL:http://business.parkercountychamber.com/events/details/realtor-headshot-and-marketing-day-20172
END:VEVENT

END:VCALENDAR
