BEGIN:VCALENDAR
VERSION:2.0
PRODID:-//ChamberMaster//Event Calendar 2.0//EN
METHOD:PUBLISH
X-PUBLISHED-TTL:P3D
REFRESH-INTERVAL:P3D
CALSCALE:GREGORIAN
BEGIN:VEVENT
DTSTART:20210708T210000Z
DTEND:20210709T020000Z
X-MICROSOFT-CDO-ALLDAYEVENT:FALSE
SUMMARY:Re-Elect Pat Deen for County Judge Golf Tournament
DESCRIPTION:Please join me Thursday July 8th for a fun-filled event that includes a 9-hole scramble golf tournament with prizes\, along with a poker event\, followed by a great BBQ dinner!  Completely free to attend and participate!\n\n\n\n*Disclaimer:  The EPCCC allows political ads if the ad is from a dues paying member in good standing. The EPCCC does not have a PAC and does not endorse candidates.
X-ALT-DESC;FMTTYPE=text/html:Please join me Thursday July 8th for a fun-filled event that includes a 9-hole scramble golf tournament with prizes\, along with a poker event\, followed by a great BBQ dinner!&nbsp\; Completely free to attend and participate!<br />\n<br />\n*Disclaimer:&nbsp\; The EPCCC allows political ads if the ad is from a dues paying member in good standing. The EPCCC does not have a PAC and does not endorse candidates.
LOCATION:Squaw Creek Golf Course 1605 Ranch House Rd. Willow Park\, TX 76087
UID:e.2477.15503
SEQUENCE:3
DTSTAMP:20260426T041734Z
URL:http://business.parkercountychamber.com/events/details/re-elect-pat-deen-for-county-judge-golf-tournament-15503
END:VEVENT

END:VCALENDAR
