BEGIN:VCALENDAR
VERSION:2.0
PRODID:-//ChamberMaster//Event Calendar 2.0//EN
METHOD:PUBLISH
X-PUBLISHED-TTL:P3D
REFRESH-INTERVAL:P3D
CALSCALE:GREGORIAN
BEGIN:VEVENT
DTSTART:20240831T180000Z
DTEND:20240831T220000Z
X-MICROSOFT-CDO-ALLDAYEVENT:FALSE
SUMMARY:Pure Glow Skincare Studio $100 Hydrafacial Event
DESCRIPTION:You won't want to miss this - $100 Hydrafacials  at Pure Glow Skincare Studio!\n\n	Raffle Prizes\n	Event-Only Package Prices   Save $215 on 3 Deluxe Hydrafacials\n	Bubbles and Bites\n\n\nSaturday\, August 31st\n\n1-5pm\n\n151 JD Towles Drive\, Willow Park 76087\n \n\nSpots will go quickly so Book Now!\n\nEmail info@pureglowskincarestudio or call us at 817.790.9412 to reserve your $100 Hydrafacial !
X-ALT-DESC;FMTTYPE=text/html:<span style="font-family:abadi\,sans-serif"><span style="font-size:14.0pt">You won&rsquo\;t want to miss this - $100 Hydrafacials&reg\; at Pure Glow Skincare Studio!</span></span>\n<ul>\n	<li style="text-align:justify"><span style="font-family:abadi\,sans-serif"><span style="font-size:14.0pt">Raffle Prizes</span></span></li>\n	<li style="text-align:justify"><span style="font-family:abadi\,sans-serif"><span style="font-size:14.0pt">Event-Only Package Prices &ndash\; Save $215 on 3 Deluxe Hydrafacials</span></span></li>\n	<li style="text-align:justify"><span style="font-family:abadi\,sans-serif"><span style="font-size:14.0pt">Bubbles and Bites</span></span></li>\n</ul>\n\n<div style="text-align: center\;"><span style="font-family:abadi\,sans-serif"><span style="font-size:14.0pt">Saturday\, August 31<sup>st</sup></span></span><br />\n<span style="font-family:abadi\,sans-serif"><span style="font-size:14.0pt">1-5pm</span></span><br />\n<span style="font-family:abadi\,sans-serif"><span style="font-size:14.0pt">151 JD Towles Drive\, Willow Park 76087</span></span></div>\n&nbsp\;<br />\n<span style="font-family:abadi\,sans-serif"><span style="font-size:14.0pt">Spots will go quickly so Book Now!</span></span><br />\n<span style="font-family:abadi\,sans-serif"><span style="font-size:14.0pt">Email info@pureglowskincarestudio or call us at 817.790.9412 to reserve your $100 Hydrafacial&reg\;!</span></span>
LOCATION:151 JD Towles Willow Park\, TX 76087
UID:e.2477.19726
SEQUENCE:3
DTSTAMP:20260424T001503Z
URL:http://business.parkercountychamber.com/events/details/pure-glow-skincare-studio-100-hydrafacial-event-19726
END:VEVENT

END:VCALENDAR
