BEGIN:VCALENDAR
VERSION:2.0
PRODID:-//ChamberMaster//Event Calendar 2.0//EN
METHOD:PUBLISH
X-PUBLISHED-TTL:P3D
REFRESH-INTERVAL:P3D
CALSCALE:GREGORIAN
BEGIN:VEVENT
DTSTART:20240712T143000Z
DTEND:20240712T170000Z
X-MICROSOFT-CDO-ALLDAYEVENT:FALSE
SUMMARY:Preventing Decline with Dr. Liana Mills
DESCRIPTION:Free presentation and lunch by local Dr. Liana Mills of Hearing and Brain Centers discussing the link between hearing loss\, tinnitus\, and cognitive decline and how to prevent the risk of developing dementia.
X-ALT-DESC;FMTTYPE=text/html:Free presentation and lunch by local Dr. Liana Mills of Hearing and Brain Centers discussing the link between hearing loss\, tinnitus\, and cognitive decline and how to prevent the risk of developing dementia.
LOCATION:Springhill Suites 500 Shops Blvd Willow Park\, TX 76087
UID:e.2477.19425
SEQUENCE:3
DTSTAMP:20260424T013304Z
URL:http://business.parkercountychamber.com/events/details/preventing-decline-with-dr-liana-mills-19425
END:VEVENT

END:VCALENDAR
