BEGIN:VCALENDAR
VERSION:2.0
PRODID:-//ChamberMaster//Event Calendar 2.0//EN
METHOD:PUBLISH
X-PUBLISHED-TTL:P3D
REFRESH-INTERVAL:P3D
CALSCALE:GREGORIAN
BEGIN:VEVENT
DTSTART:20220428T003000Z
DTEND:20220428T020000Z
X-MICROSOFT-CDO-ALLDAYEVENT:FALSE
SUMMARY:"pool (no water)"
DESCRIPTION:WC theatre presents "pool (no water)" on Wednesday\, April 27\, at 7:30 p.m. in the Alkek Fine Arts Center. Doors open at 7 p.m. and admission is free.\n\n \n\nA famous artist invites her old friends to her luxurious new home. For one night only\, the group is back together. But celebrations come to an abrupt end when the host suffers an horrific accident. As the victim lies in a coma\, an almost unthinkable plan starts to take shape: could her suffering be their next work of art? pool (no water) is a visceral and shocking new play about the fragility of friendship and the jealousy and resentment inspired by success.
X-ALT-DESC;FMTTYPE=text/html:<div>WC theatre presents &quot\;pool (no water)&quot\; on Wednesday\, April 27\, at 7:30 p.m. in the Alkek Fine Arts Center. Doors open at 7 p.m. and admission is free.<br />\n&nbsp\;</div>\n\n<div>A famous artist invites her old friends to her luxurious new home. For one night only\, the group is back together. But celebrations come to an abrupt end when the host suffers an horrific accident. As the victim lies in a coma\, an almost unthinkable plan starts to take shape: could her suffering be their next work of art? pool (no water) is a visceral and shocking new play about the fragility of friendship and the jealousy and resentment inspired by success.</div>\n
LOCATION:Weatherford College
UID:e.2477.17747
SEQUENCE:3
DTSTAMP:20260425T154108Z
URL:http://business.parkercountychamber.com/events/details/pool-no-water-17747
END:VEVENT

END:VCALENDAR
