BEGIN:VCALENDAR
VERSION:2.0
PRODID:-//ChamberMaster//Event Calendar 2.0//EN
METHOD:PUBLISH
X-PUBLISHED-TTL:P3D
REFRESH-INTERVAL:P3D
CALSCALE:GREGORIAN
BEGIN:VEVENT
DTSTART:20211001T163000Z
DTEND:20211001T180000Z
X-MICROSOFT-CDO-ALLDAYEVENT:FALSE
SUMMARY:Pink Luncheon 2021 Save the Date!
DESCRIPTION:The Parker County Health Foundation's "PINK LUNCHEON" \n\nThis luncheon provides funding for Mammograms and other life saving screenings for Parker County Residents\, who otherwise may not afford screenings.
X-ALT-DESC;FMTTYPE=text/html:The Parker County Health Foundation&#39\;s &quot\;PINK LUNCHEON&quot\;&nbsp\;<br />\nThis luncheon provides funding for Mammograms and other life saving screenings for Parker County Residents\, who otherwise may not afford screenings.
LOCATION:Willow Park Baptist Church Gymnasium 129 Ranch House Rd. Willow Park\, Texas 76008
UID:e.2477.14814
SEQUENCE:3
DTSTAMP:20260425T235908Z
URL:http://business.parkercountychamber.com/events/details/pink-luncheon-2021-save-the-date-14814
END:VEVENT

END:VCALENDAR
