BEGIN:VCALENDAR
VERSION:2.0
PRODID:-//ChamberMaster//Event Calendar 2.0//EN
METHOD:PUBLISH
X-PUBLISHED-TTL:P3D
REFRESH-INTERVAL:P3D
CALSCALE:GREGORIAN
BEGIN:VEVENT
DTSTART:20210718T000000Z
DTEND:20210718T050000Z
X-MICROSOFT-CDO-ALLDAYEVENT:FALSE
SUMMARY:Pickin' for the Pythian
DESCRIPTION:1st Annual Pickin for the Pythian Concert\n\nJuly 17\, 2021\n\nCome support the Texas Pythian Home\, Inc. and enjoy the music of:\n\nRowdy Decker\n\nJeb Briges Band\n\nSonny and Jolie Burgess\n\n \n\nThere will be food trucks and a silent auction as well!\n\n \n\nTickets will go on Sale June 1st for $10.00 a person and they will be $20.00 at the gate the day of the event.
X-ALT-DESC;FMTTYPE=text/html:<div>\n<p><em><strong>1st Annual Pickin for the Pythian Concert</strong></em></p>\n\n<p><strong>July 17\, 2021</strong></p>\n\n<p>Come support the Texas Pythian Home\, Inc. and enjoy the music of:</p>\n\n<p><em><strong>Rowdy Decker</strong></em></p>\n\n<p><em><strong>Jeb Briges Band</strong></em></p>\n\n<p><em><strong>Sonny and Jolie Burgess</strong></em></p>\n\n<p>&nbsp\;</p>\n\n<p><em><strong>There will be food trucks and a silent auction as well!</strong></em></p>\n\n<p>&nbsp\;</p>\n\n<p><em><strong>Tickets will go on Sale June 1st for $10.00 a person and they will be $20.00 at the gate the day of the event.</strong></em></p>\n</div>\n
LOCATION:2251 Mineral Wells Hwy\, Weatherford\, TX 76088
UID:e.2477.15509
SEQUENCE:3
DTSTAMP:20260426T040637Z
URL:http://business.parkercountychamber.com/events/details/pickin-for-the-pythian-15509
END:VEVENT

END:VCALENDAR
