BEGIN:VCALENDAR
VERSION:2.0
PRODID:-//ChamberMaster//Event Calendar 2.0//EN
METHOD:PUBLISH
X-PUBLISHED-TTL:P3D
REFRESH-INTERVAL:P3D
CALSCALE:GREGORIAN
BEGIN:VEVENT
DTSTART:20250411T130000Z
DTEND:20250411T220000Z
X-MICROSOFT-CDO-ALLDAYEVENT:FALSE
SUMMARY:Philosophy of Religion and War Conference
DESCRIPTION:We live in a time of conflict. Whether in the so-called "culture wars" fought on the fields of social media and political disagreement or the rumor of conflict between nations that threatens to boil over into full scale war like those that rage in the Middle-East and elsewhere\, our global culture\, it seems\, is one steeped in war and its imagery.\n\n\n\nThough by no means the only factor\, religion often plays a role in how such conflicts begin and (perhaps ironically?) the same religions offer hope for how they can be resolved. Are such conflicts justified or justifiable? Is peace possible? If it is\, what does it reasonably look like? It is in light of issues and questions such as these that Weatherford College presents the 7th annual Philosophy of Religion Conference on the theme "Philosophy of Religion and War" on April 11-12\, 2025.\n\n\n\nClick the link for more information:\n\nhttps://new.express.adobe.com/webpage/RXn98mYc67ivb
X-ALT-DESC;FMTTYPE=text/html:<span style="font-size:14px"><span style="font-family:arial\,helvetica\,sans-serif"><span style="color:rgb(17\, 26\, 11)">We live in a time of conflict. Whether in the so-called &ldquo\;culture wars&rdquo\; fought on the fields of social media and political disagreement or the rumor of conflict between nations that threatens to boil over into full scale war like those that rage in the Middle-East and elsewhere\, our global culture\, it seems\, is one steeped in war and its imagery.<br />\n<br />\nThough by no means the only factor\, religion often plays a role in how such conflicts begin and (perhaps ironically?) the same religions offer hope for how they can be resolved. Are such conflicts justified or justifiable? Is peace possible? If it is\, what does it reasonably look like? It is in light of issues and questions such as these that Weatherford College presents the 7th annual Philosophy of Religion Conference on the theme &ldquo\;Philosophy of Religion and War&rdquo\; on April 11-12\, 2025.</span><br />\n<br />\n<span style="color:rgb(0\, 0\, 0)">Click the link for more information:</span><br />\n<a href="https://new.express.adobe.com/webpage/RXn98mYc67ivb" style="font-family: -apple-system\, &quot\;system-ui&quot\;\, &quot\;Segoe UI&quot\;\, Roboto\, Helvetica\, Arial\, sans-serif\, &quot\;Apple Color Emoji&quot\;\, &quot\;Segoe UI Emoji&quot\;\, &quot\;Segoe UI Symbol&quot\;\;">https://new.express.adobe.com/webpage/RXn98mYc67ivb</a></span></span>
LOCATION:Weatherford College Academic Building 225 College Park Dr.
UID:e.2477.20116
SEQUENCE:3
DTSTAMP:20260423T085851Z
URL:http://business.parkercountychamber.com/events/details/philosophy-of-religion-and-war-conference-20116
END:VEVENT

END:VCALENDAR
