BEGIN:VCALENDAR
VERSION:2.0
PRODID:-//ChamberMaster//Event Calendar 2.0//EN
METHOD:PUBLISH
X-PUBLISHED-TTL:P3D
REFRESH-INTERVAL:P3D
CALSCALE:GREGORIAN
BEGIN:VEVENT
DTSTART:20260718T160000Z
DTEND:20260718T164500Z
X-MICROSOFT-CDO-ALLDAYEVENT:FALSE
SUMMARY:Peter Pan by Heath Thompson
DESCRIPTION:Presented by the Weatherford College Summer Stage\n\n\n\nPeter Pan\, written by Heath Thompson\, is a lively\, interactive theatrical production designed especially for young audiences who are learning how to attend and enjoy live performances. With audience engagement and a fast-moving story\, this 40-minute show introduces children and families to the magic of theatre in an approachable\, welcoming way.\n\n \n\nProduced by Erin and James Brownlee\, Peter Pan invites audiences to follow the timeless adventure of Peter\, Wendy\, and the Lost Boys as they explore imagination\, bravery\, and the joy of never growing up.\n\n \n\nAdmission is free.
X-ALT-DESC;FMTTYPE=text/html:<div>Presented by the Weatherford College Summer Stage</div>\n\n<div><br />\nPeter Pan\, written by Heath Thompson\, is a lively\, interactive theatrical production designed especially for young audiences who are learning how to attend and enjoy live performances. With audience engagement and a fast-moving story\, this 40-minute show introduces children and families to the magic of theatre in an approachable\, welcoming way.<br />\n&nbsp\;</div>\n\n<div>Produced by Erin and James Brownlee\, Peter Pan invites audiences to follow the timeless adventure of Peter\, Wendy\, and the Lost Boys as they explore imagination\, bravery\, and the joy of never growing up.<br />\n&nbsp\;</div>\n\n<div>Admission is free.</div>\n
LOCATION:Weatherford College Alkek Fine Arts Center 225 College Park Dr. Weatherford\, TX 76086
UID:e.2477.21942
SEQUENCE:3
DTSTAMP:20260422T135454Z
URL:http://business.parkercountychamber.com/events/details/peter-pan-by-heath-thompson-07-18-2026-21942
END:VEVENT

END:VCALENDAR
