BEGIN:VCALENDAR
VERSION:2.0
PRODID:-//ChamberMaster//Event Calendar 2.0//EN
METHOD:PUBLISH
X-PUBLISHED-TTL:P3D
REFRESH-INTERVAL:P3D
CALSCALE:GREGORIAN
BEGIN:VEVENT
DTSTART:20260502T150000Z
DTEND:20260502T200000Z
X-MICROSOFT-CDO-ALLDAYEVENT:FALSE
SUMMARY:Peter Pan Audtions
DESCRIPTION:Children's Show: Peter Pan by Heath Thompson \n\nAuditions: May 2: 10 a.m. - 3 p.m.\n\n\n\nRehearsals: TBD\n\n\n\nPerformances: \n\nJuly 11: 11 a.m.\n\nJuly 12: 2 p.m.\n\nJuly 18: 11 a.m.\n\nJuly 19: 2 p.m.
X-ALT-DESC;FMTTYPE=text/html:<strong>Children&#39\;s Show: Peter Pan by Heath Thompson&nbsp\;</strong><br />\n<em>Auditions:&nbsp\;</em><span style="color:rgb(0\, 0\, 0)\; font-family:-apple-system\,system-ui\,segoe ui\,roboto\,helvetica\,arial\,sans-serif\,apple color emoji\,segoe ui emoji\,segoe ui symbol">May 2: 10 a.m. - 3 p.m.</span><br />\n<br />\n<em>Rehearsals:</em><span style="color:rgb(0\, 0\, 0)\; font-family:-apple-system\,system-ui\,segoe ui\,roboto\,helvetica\,arial\,sans-serif\,apple color emoji\,segoe ui emoji\,segoe ui symbol">&nbsp\;TBD</span><br />\n<br />\n<em>Performances:&nbsp\;</em><br />\n<span style="color:rgb(0\, 0\, 0)\; font-family:-apple-system\,system-ui\,segoe ui\,roboto\,helvetica\,arial\,sans-serif\,apple color emoji\,segoe ui emoji\,segoe ui symbol">July 11: 11 a.m.</span><br />\n<span style="color:rgb(0\, 0\, 0)\; font-family:-apple-system\,system-ui\,segoe ui\,roboto\,helvetica\,arial\,sans-serif\,apple color emoji\,segoe ui emoji\,segoe ui symbol">July 12: 2 p.m.</span><br />\n<span style="color:rgb(0\, 0\, 0)\; font-family:-apple-system\,system-ui\,segoe ui\,roboto\,helvetica\,arial\,sans-serif\,apple color emoji\,segoe ui emoji\,segoe ui symbol">July 18: 11 a.m.</span><br />\n<span style="color:rgb(0\, 0\, 0)\; font-family:-apple-system\,system-ui\,segoe ui\,roboto\,helvetica\,arial\,sans-serif\,apple color emoji\,segoe ui emoji\,segoe ui symbol">July 19: 2 p.m.&nbsp\;</span>
LOCATION:Weatherford College Alkek Fine Arts Center 225 College Park Dr Weatherford\, TX 76086
UID:e.2477.21934
SEQUENCE:3
DTSTAMP:20260420T205647Z
URL:http://business.parkercountychamber.com/events/details/peter-pan-audtions-21934
END:VEVENT

END:VCALENDAR
