BEGIN:VCALENDAR
VERSION:2.0
PRODID:-//ChamberMaster//Event Calendar 2.0//EN
METHOD:PUBLISH
X-PUBLISHED-TTL:P3D
REFRESH-INTERVAL:P3D
CALSCALE:GREGORIAN
BEGIN:VEVENT
DTSTART:20241017T223000Z
DTEND:20241018T010000Z
X-MICROSOFT-CDO-ALLDAYEVENT:FALSE
SUMMARY:PCCOA Burgers & Bingo
DESCRIPTION:Join us for Burgers & Bingo benefitting Meals on Wheels and the Senior Center!\n\n \n\nDinner will be served from 5:30PM-6:30PM which includes a hamburger dinner (burger\, chips\, drink\, and dessert). Following dinner\, we will play Bingo for your chance to win locally donated prizes.\n\n \n\nTickets are limited to 200 guests. Additional Bingo cards will be available for purchase at $5 a piece\, while supplies last (limit 1).
X-ALT-DESC;FMTTYPE=text/html:<div>Join us for Burgers &amp\; Bingo benefitting Meals on Wheels and the Senior Center!<br />\n&nbsp\;</div>\n\n<div>Dinner will be served from 5:30PM-6:30PM which includes a hamburger dinner (burger\, chips\, drink\, and dessert). Following dinner\, we will play Bingo for your chance to win locally donated prizes.<br />\n&nbsp\;</div>\n\n<div>Tickets are limited to 200 guests. Additional Bingo cards will be available for purchase at $5 a piece\, while supplies last (limit 1).</div>\n
LOCATION:Senior Center 1225 Holland Lake Dr. Weatherford\, TX 76086
UID:e.2477.19930
SEQUENCE:3
DTSTAMP:20260423T211617Z
URL:http://business.parkercountychamber.com/events/details/pccoa-burgers-bingo-10-17-2024-19930
END:VEVENT

END:VCALENDAR
