BEGIN:VCALENDAR
VERSION:2.0
PRODID:-//ChamberMaster//Event Calendar 2.0//EN
METHOD:PUBLISH
X-PUBLISHED-TTL:P3D
REFRESH-INTERVAL:P3D
CALSCALE:GREGORIAN
BEGIN:VEVENT
DTSTART:20250724T223000Z
DTEND:20250725T010000Z
X-MICROSOFT-CDO-ALLDAYEVENT:FALSE
SUMMARY:PCCOA 50th Anniversary Celebration
DESCRIPTION:Come celebrate our 50th anniversary of incorporation! \n\n\n\nThis special event is dedicated to honoring all of our past and present board members\, volunteers\, staff\, and community leaders who have helped us reach this incredible milestone. Hors d'oeuvres and refreshments will be served. We look forward to an evening filled with distinguished honors\, inspiring stories\, heartfelt fellowship\, and cherished memories from our journey.
X-ALT-DESC;FMTTYPE=text/html:<strong>Come celebrate our 50th&nbsp\;anniversary of incorporation!&nbsp\;</strong><br />\n<br />\nThis special event is dedicated to honoring all of our past and present board members\, volunteers\, staff\, and community leaders who have helped us reach this incredible milestone. Hors d&#39\;oeuvres and refreshments will be served. We look forward to an evening filled with distinguished honors\, inspiring stories\, heartfelt fellowship\, and cherished memories from our journey.
LOCATION:Weatherford Senior Center 1225 Holland Lake Dr. Weatherford\, TX 76086
UID:e.2477.20568
SEQUENCE:3
DTSTAMP:20260423T042621Z
URL:http://business.parkercountychamber.com/events/details/pccoa-50th-anniversary-celebration-20568
END:VEVENT

END:VCALENDAR
