BEGIN:VCALENDAR
VERSION:2.0
PRODID:-//ChamberMaster//Event Calendar 2.0//EN
METHOD:PUBLISH
X-PUBLISHED-TTL:P3D
REFRESH-INTERVAL:P3D
CALSCALE:GREGORIAN
BEGIN:VEVENT
DTSTART:20240410T163000Z
DTEND:20240410T180000Z
X-MICROSOFT-CDO-ALLDAYEVENT:FALSE
SUMMARY:PCCC Membership Luncheon-What is your State & County I.Q.?
DESCRIPTION:County Attorney John Forrest is our keynote speaker for this month. He will keep you engaged as he test you on\, "What is your State & County I.Q"? promising an enlightening experience for all attendees.\n \n\nSpotlights:  Cabi\, Casa Hope for Children and Children's Advocacy Center of Parker County\n\nCaterer:  Aaron's Catering - Beef Enchilada Casserole\, Mexican rice\, Refried Beans and Salad
X-ALT-DESC;FMTTYPE=text/html:<span an="" and="" apple="" attorney="" color="" county="" deliver="" engaging="" font-size:="" forrest="" helvetica="" interactive="" john="" noto="" segoe="" session="" span="" style="white-space-collapse: preserve\; color: rgb(13\, 13\, 13)\; font-family: Söhne\, ui-sans-serif\, system-ui\, -apple-system\, " titled="" ui="" will="">County Attorney John Forrest is our keynote speaker for this month. He will keep you engaged as he test you on\, &quot\;What is your State &amp\; County I.Q&quot\;? promising an enlightening experience for all attendees.</span>\n<h2 class="subhead1 " color:="" font-size:="" font-weight:="" style="box-sizing: border-box\; margin-top: 0.167em\; margin-bottom: 0px\; border: 0px none\; font-family: " text-transform:="" zilla="">&nbsp\;</h2>\n\n<div style="box-sizing: border-box\; margin-bottom: 0.35em\; border: 0px none\;"><span style="font-size:16px\;">Spotlights:&nbsp\; Cabi\, Casa Hope for Children and Children&#39\;s Advocacy Center of Parker County</span></div>\n\n<div style="box-sizing: border-box\; margin-bottom: 0.35em\; border: 0px none\;"><span style="font-size:16px\;">Caterer:&nbsp\; Aaron&#39\;s Catering - Beef Enchilada Casserole\, Mexican rice\, Refried Beans and&nbsp\;Salad</span></div>\n
LOCATION:New River Fellowship 3252 E. I-20 Service Road Hudson Oaks\, Texas 76087
UID:e.2477.15653
SEQUENCE:3
DTSTAMP:20260424T070648Z
URL:http://business.parkercountychamber.com/events/details/pccc-membership-luncheon-what-is-your-state-county-i-q-15653
END:VEVENT

END:VCALENDAR
