BEGIN:VCALENDAR
VERSION:2.0
PRODID:-//ChamberMaster//Event Calendar 2.0//EN
METHOD:PUBLISH
X-PUBLISHED-TTL:P3D
REFRESH-INTERVAL:P3D
CALSCALE:GREGORIAN
BEGIN:VEVENT
DTSTART:20260311T163000Z
DTEND:20260311T180000Z
X-MICROSOFT-CDO-ALLDAYEVENT:FALSE
SUMMARY:PCCC Membership Luncheon-Transportation
DESCRIPTION:Transportation plays a vital role in Parker County's continued growth and economic success. Join the Parker County Chamber on Wednesday\, March 11\, 2026\, for our PCCC Membership Luncheon as we welcome Chadwick Dabbs\, Area Engineer with TxDOT's Parker/Palo Pinto County Area Office.\n\nMr. Dabbs will provide important updates on current and upcoming roadway projects\, infrastructure planning\, and long-term transportation initiatives impacting our businesses and community.\n\nThis luncheon is a valuable opportunity to connect with fellow business leaders\, stay informed on key regional issues\, and strengthen the relationships that make us Parker County's Conduit for Connectivity.\n\nRegister today. We look forward to seeing you there!\nEvent Sponsors:  Cabi\, The Promise\, and Yellowstone \n\nCaterer:  Brenda's Catering - Sweet & spicy Pork Tenderloin\, Twice Baked Potatoes\, Salad\, and Dessert
X-ALT-DESC;FMTTYPE=text/html:<p data-end="658" data-start="378" style="color: rgb(0\, 0\, 0)\; font-size: medium\;">Transportation plays a vital role in Parker County&rsquo\;s continued growth and economic success. Join the Parker County Chamber on Wednesday\, March 11\, 2026\, for our PCCC Membership Luncheon as we welcome Chadwick Dabbs\, Area Engineer with TxDOT&rsquo\;s Parker/Palo Pinto County Area Office.</p>\n\n<p data-end="848" data-start="660" style="color: rgb(0\, 0\, 0)\; font-size: medium\;">Mr. Dabbs will provide important updates on current and upcoming roadway projects\, infrastructure planning\, and long-term transportation initiatives impacting our businesses and community.</p>\n\n<p data-end="1056" data-start="850" style="color: rgb(0\, 0\, 0)\; font-size: medium\;">This luncheon is a valuable opportunity to connect with fellow business leaders\, stay informed on key regional issues\, and strengthen the relationships that make us Parker County&rsquo\;s Conduit for Connectivity.</p>\n\n<p data-end="1141" data-is-last-node="" data-is-only-node="" data-start="1058" style="color: rgb(0\, 0\, 0)\; font-size: medium\;">Register today. We look forward to seeing you there!</p>\n<span a="" about="" across="" advanced="" advancing="" all="" also="" and="" apple="" area="" as="" aspects="" at="" august="" believe="" bridge="" chapter="" clear="" color="" commitment="" committed="" connecting="" construction="" county="" dedicated="" deep="" delivery.="" department="" design="" designer="" development="" directly="" district="" district.="" droid="" dynamic="" earned="" economic="" efforts="" engineer="" engineering="" fira="" font-size:="" for="" fort="" forward="" from="" future="" great="" growing="" guide="" held="" helvetica="" high-quality="" honored="" i="" in="" infrastructure="" journey="" keep="" key="" lead="" leadership.="" leading="" licensed="" long-range="" look="" m="" maintenance="" manage="" manager="" moving="" my="" networks.="" next="" north="" of="" office="" office.="" one="" operations="" other="" our="" overseeing="" palo="" passionate="" pinto="" planning="" portfolio="" prior="" proactive="" professional="" professionals="" project="" projects="" public="" rapidly="" region.="" represents="" resilient="" responsive="" robust="" role="" roles="" rooted="" s="" safe="" schematic="" segoe="" servant="" served="" service.="" shaping="" span="" starts="" strategic="" strong="" style="color: rgba(0\, 0\, 0\, 0.9)\; font-family: system-ui\, -apple-system\, BlinkMacSystemFont\, " supervisor="" support="" team="" technical="" texas="" texas.="" that="" the="" this="" through="" to="" transportation="" txdot="" ui="" university.="" ve="" very="" we="" well="" white-space-collapse:="" with="" worth="">Event Sponsors:&nbsp\; Cabi\, The Promise\, and Yellowstone&nbsp\;<br />\nCaterer:&nbsp\; Brenda&#39\;s Catering - Sweet &amp\; spicy Pork Tenderloin\, Twice Baked Potatoes\, Salad\, and Dessert</span>
LOCATION:New River Fellowship 3252 E I-20 Hudson Oaks\, 76087
UID:e.2477.21183
SEQUENCE:3
DTSTAMP:20260421T032351Z
URL:http://business.parkercountychamber.com/events/details/pccc-membership-luncheon-transportation-03-11-2026-21183
END:VEVENT

END:VCALENDAR
